BEGIN:VCALENDAR
VERSION:2.0
PRODID:-//Peaks Island - ECPv6.15.17//NONSGML v1.0//EN
CALSCALE:GREGORIAN
METHOD:PUBLISH
X-WR-CALNAME:Peaks Island
X-ORIGINAL-URL:https://peaksisland.info
X-WR-CALDESC:Events for Peaks Island
REFRESH-INTERVAL;VALUE=DURATION:PT1H
X-Robots-Tag:noindex
X-PUBLISHED-TTL:PT1H
BEGIN:VTIMEZONE
TZID:America/New_York
BEGIN:DAYLIGHT
TZOFFSETFROM:-0500
TZOFFSETTO:-0400
TZNAME:EDT
DTSTART:20250309T070000
END:DAYLIGHT
BEGIN:STANDARD
TZOFFSETFROM:-0400
TZOFFSETTO:-0500
TZNAME:EST
DTSTART:20251102T060000
END:STANDARD
BEGIN:DAYLIGHT
TZOFFSETFROM:-0500
TZOFFSETTO:-0400
TZNAME:EDT
DTSTART:20260308T070000
END:DAYLIGHT
BEGIN:STANDARD
TZOFFSETFROM:-0400
TZOFFSETTO:-0500
TZNAME:EST
DTSTART:20261101T060000
END:STANDARD
BEGIN:DAYLIGHT
TZOFFSETFROM:-0500
TZOFFSETTO:-0400
TZNAME:EDT
DTSTART:20270314T070000
END:DAYLIGHT
BEGIN:STANDARD
TZOFFSETFROM:-0400
TZOFFSETTO:-0500
TZNAME:EST
DTSTART:20271107T060000
END:STANDARD
END:VTIMEZONE
BEGIN:VEVENT
DTSTART;TZID=America/New_York:20260424T080000
DTEND;TZID=America/New_York:20260424T170000
DTSTAMP:20260424T012700
CREATED:20260413T204648Z
LAST-MODIFIED:20260413T204648Z
UID:10023664-1777017600-1777050000@peaksisland.info
SUMMARY:Peaks Island Vacation Camp
DESCRIPTION:Peaks Island April Vacation Camp \nWe are excited to provide a fun\, nurturing environment for Peaks Island kids during their April break this year! \nPlease note this camp will start on Tuesday 4/21 due to the Monday holiday. There is an option to register for all 4 days of camp or select 2 days of camp; please choose the appropriate camp schedule and age group for your child from the registration options below. \n\nGrades\nPre-K through 5th\n\nDates\nTuesday 4/21/26 – Friday 4/24/26 \nLocation\nPeaks Island Community Center \nHours & Tuition\n8:00am – 5:00pm\n$250 per child for 4 days of camp\n$125 per child for 2 days of camp \n\nWhat to Expect Each Day\n– Nature-based adventures at different locations around the island\, including the school playground\, the ball field\, the woods\, and beaches\n– Reading and games at the library\n– Themed craft activities\n– Dedicated time for snacks and lunch\n– Choice time + free play time \nHow to Prepare for Each Day\nEach participant should arrive to camp with the following:\n– A full water bottle\n– A packed lunch plus two snacks\n– Appropriate outerwear\, including gear for wet\, muddy\, rainy\, or snowy weather\n– A separate pair of shoes for wearing indoors (sneakers\, slippers\, or Crocs are okay)\n– A clean change of clothes\, including socks and underwear \nSome additional snacks will be provided but all children should come prepared with at least two snacks that are separate from their lunch.\nImportant Notes\nRegistration\nPlease register your child below in the correct age group. Camp participants will be together throughout the week but some activities will be planned by age group. Please also note you can select 4 days of camp or 2 days of camp for your child. \nWe need 8 children to register for each day by Friday\, April 10\, in order for this program to run. \nOutstanding Balances\nParticipants with unpaid balances for past programs (including Before & After the Bell\, field trips\, vacation weeks\, or summer camps) are not eligible to register. Any registrations made with an unpaid balance will be automatically canceled.\n\nWithdrawals\nIf you withdraw before the first day\, a $25 withdrawal fee per child per day will be deducted from your refund. There will be no refunds once the program has started
URL:https://peaksisland.info/event/peaks-island-vacation-camp/2026-04-24/
CATEGORIES:Children
END:VEVENT
BEGIN:VEVENT
DTSTART;TZID=America/New_York:20260424T104500
DTEND;TZID=America/New_York:20260424T111500
DTSTAMP:20260424T012700
CREATED:20250626T113230Z
LAST-MODIFIED:20250815T110440Z
UID:10014619-1777027500-1777029300@peaksisland.info
SUMMARY:Pre School Story Time
DESCRIPTION:Preschool Storytime features more challenging stories\, songs\, movement\, and activities to help preschool-age children continue to develop their early literacy skills! Parents and caregivers can play and sing along while learning about new books\, songs\, fingerplays and stories from our librarians. \n\n\n\n\nDisclaimer(s)\n\n\n\n\nAll children are welcome to attend the PPL Storytime that best fits their schedule. Adults must be accompanied by a child. Caregivers should remain with their child during Storytime. We encourage caregivers to fully participate and enjoy the fun with their children!
URL:https://peaksisland.info/event/pre-school-story-time/2026-04-24/
LOCATION:Peaks Island Library\, Temporary home at Peaks Island Elementary School (rear entrance)\, Peaks Island\, 04108\, United States
CATEGORIES:Children
ORGANIZER;CN="Peaks Island Library":MAILTO:peaks@portlandpubliclibrary.org
END:VEVENT
BEGIN:VEVENT
DTSTART;TZID=America/New_York:20260424T151500
DTEND;TZID=America/New_York:20260424T170000
DTSTAMP:20260424T012700
CREATED:20260109T194339Z
LAST-MODIFIED:20260109T194339Z
UID:10022248-1777043700-1777050000@peaksisland.info
SUMMARY:Creative Writing Grades 3-5
DESCRIPTION:Creative Writing for Kids @ Peaks (Grades 3–5)Fridays afternoons\, 3:15 pm  \nCreative Writing for Kids (Grades 3–5) Friday afternoons at 3:15 pm. \nBring your imagination – journals\, pencils and snacks will be provided. \nQuestions contact the library 766-5540 or email us peaks@portlib.org
URL:https://peaksisland.info/event/creative-writing-grades-3-5/2026-04-24/
LOCATION:Peaks Island Library\, Temporary home at Peaks Island Elementary School (rear entrance)\, Peaks Island\, 04108\, United States
CATEGORIES:Art, Art Lessons, Creative Writing,Children
ORGANIZER;CN="Peaks Island Library":MAILTO:peaks@portlandpubliclibrary.org
END:VEVENT
END:VCALENDAR