BEGIN:VCALENDAR
VERSION:2.0
PRODID:-//Peaks Island - ECPv6.15.17//NONSGML v1.0//EN
CALSCALE:GREGORIAN
METHOD:PUBLISH
X-ORIGINAL-URL:https://peaksisland.info
X-WR-CALDESC:Events for Peaks Island
REFRESH-INTERVAL;VALUE=DURATION:PT1H
X-Robots-Tag:noindex
X-PUBLISHED-TTL:PT1H
BEGIN:VTIMEZONE
TZID:America/New_York
BEGIN:DAYLIGHT
TZOFFSETFROM:-0500
TZOFFSETTO:-0400
TZNAME:EDT
DTSTART:20250309T070000
END:DAYLIGHT
BEGIN:STANDARD
TZOFFSETFROM:-0400
TZOFFSETTO:-0500
TZNAME:EST
DTSTART:20251102T060000
END:STANDARD
BEGIN:DAYLIGHT
TZOFFSETFROM:-0500
TZOFFSETTO:-0400
TZNAME:EDT
DTSTART:20260308T070000
END:DAYLIGHT
BEGIN:STANDARD
TZOFFSETFROM:-0400
TZOFFSETTO:-0500
TZNAME:EST
DTSTART:20261101T060000
END:STANDARD
BEGIN:DAYLIGHT
TZOFFSETFROM:-0500
TZOFFSETTO:-0400
TZNAME:EDT
DTSTART:20270314T070000
END:DAYLIGHT
BEGIN:STANDARD
TZOFFSETFROM:-0400
TZOFFSETTO:-0500
TZNAME:EST
DTSTART:20271107T060000
END:STANDARD
END:VTIMEZONE
BEGIN:VEVENT
DTSTART;TZID=America/New_York:20260322T083000
DTEND;TZID=America/New_York:20260322T100000
DTSTAMP:20260422T034707
CREATED:20250624T141712Z
LAST-MODIFIED:20250630T111218Z
UID:10015863-1774168200-1774173600@peaksisland.info
SUMMARY:Mass at St. Christopher's Church
DESCRIPTION:
URL:https://peaksisland.info/event/mass-at-st-christophers-church/2026-03-22/
LOCATION:St. Christopher’s Church\, 15 Central Avenue\, Peaks Island\, ME\, 04108\, United States
CATEGORIES:Religion, Spiritual
END:VEVENT
BEGIN:VEVENT
DTSTART;TZID=America/New_York:20260322T100000
DTEND;TZID=America/New_York:20260322T100000
DTSTAMP:20260422T034707
CREATED:20250624T141840Z
LAST-MODIFIED:20250630T104107Z
UID:10011395-1774173600-1774173600@peaksisland.info
SUMMARY:Worship at New Brackett Church
DESCRIPTION:
URL:https://peaksisland.info/event/worship-at-new-brackett-church/2026-03-22/
LOCATION:New Brackett Church\, 3 Church Ave\, Peaks Island\, ME\, 04108\, United States
CATEGORIES:Religion, Spiritual
END:VEVENT
BEGIN:VEVENT
DTSTART;TZID=America/New_York:20260322T100000
DTEND;TZID=America/New_York:20260322T120000
DTSTAMP:20260422T034707
CREATED:20260318T120316Z
LAST-MODIFIED:20260318T120608Z
UID:10023544-1774173600-1774180800@peaksisland.info
SUMMARY:Spring Spiral Dance at New Brackett Church
DESCRIPTION:Spring is about to begin. Celebrate the vernal equinox by participating in a SPIRAL DANCE\, this Sunday morning at 10:00am at New Brackett Church on Peaks Island at our weekly worship service. Our Sanctuary is being painted\, so we are holding service in the church hall in a large circle. This week we are going to join hands and wind ourselves to the center and then back out to the periphery while seeing each other’s face. As always\, the service will be followed by a community potluck meal. The image is a terracotta ram from the Temple of the Kabeiroi in Thebes. I took this picture while visiting the British Museum last week. The beginning of Spring also marks Aries season\, represented by the ram. Celebrate the balance of the equinox\, the head-on energy of Aries\, the freshness of the spring\, and the flow of community this Sunday\, March 22nd\, at 10:00am at New Brackett Church on Peaks Island.
URL:https://peaksisland.info/event/spring-spiral-dance-at-new-brackett-church/
LOCATION:New Brackett Church\, 3 Church Ave\, Peaks Island\, ME\, 04108\, United States
CATEGORIES:Religion, Spiritual
END:VEVENT
BEGIN:VEVENT
DTSTART;TZID=America/New_York:20260326T100000
DTEND;TZID=America/New_York:20260326T110000
DTSTAMP:20260422T034707
CREATED:20250715T063327Z
LAST-MODIFIED:20251214T195551Z
UID:10016399-1774519200-1774522800@peaksisland.info
SUMMARY:Bible Study St Christophers Church
DESCRIPTION:
URL:https://peaksisland.info/event/bible-study-st-christophers-church/2026-03-26/
LOCATION:St. Christopher’s Church\, 15 Central Avenue\, Peaks Island\, ME\, 04108\, United States
CATEGORIES:Religion, Spiritual
END:VEVENT
BEGIN:VEVENT
DTSTART;TZID=America/New_York:20260328T170000
DTEND;TZID=America/New_York:20260328T180000
DTSTAMP:20260422T034707
CREATED:20250904T155039Z
LAST-MODIFIED:20250904T155039Z
UID:10017080-1774717200-1774720800@peaksisland.info
SUMMARY:Eucharist Service at New Brackett
DESCRIPTION:Eucharist service is now every Saturday at 5:00 pm at New Brackett
URL:https://peaksisland.info/event/eucharist-service-at-new-brackett/2026-03-28/
LOCATION:New Brackett Church\, 3 Church Ave\, Peaks Island\, ME\, 04108\, United States
CATEGORIES:Religion, Spiritual
END:VEVENT
END:VCALENDAR