BEGIN:VCALENDAR
VERSION:2.0
PRODID:-//Peaks Island - ECPv6.15.17//NONSGML v1.0//EN
CALSCALE:GREGORIAN
METHOD:PUBLISH
X-WR-CALNAME:Peaks Island
X-ORIGINAL-URL:https://peaksisland.info
X-WR-CALDESC:Events for Peaks Island
REFRESH-INTERVAL;VALUE=DURATION:PT1H
X-Robots-Tag:noindex
X-PUBLISHED-TTL:PT1H
BEGIN:VTIMEZONE
TZID:America/New_York
BEGIN:DAYLIGHT
TZOFFSETFROM:-0500
TZOFFSETTO:-0400
TZNAME:EDT
DTSTART:20250309T070000
END:DAYLIGHT
BEGIN:STANDARD
TZOFFSETFROM:-0400
TZOFFSETTO:-0500
TZNAME:EST
DTSTART:20251102T060000
END:STANDARD
BEGIN:DAYLIGHT
TZOFFSETFROM:-0500
TZOFFSETTO:-0400
TZNAME:EDT
DTSTART:20260308T070000
END:DAYLIGHT
BEGIN:STANDARD
TZOFFSETFROM:-0400
TZOFFSETTO:-0500
TZNAME:EST
DTSTART:20261101T060000
END:STANDARD
BEGIN:DAYLIGHT
TZOFFSETFROM:-0500
TZOFFSETTO:-0400
TZNAME:EDT
DTSTART:20270314T070000
END:DAYLIGHT
BEGIN:STANDARD
TZOFFSETFROM:-0400
TZOFFSETTO:-0500
TZNAME:EST
DTSTART:20271107T060000
END:STANDARD
END:VTIMEZONE
BEGIN:VEVENT
DTSTART;TZID=America/New_York:20261107T170000
DTEND;TZID=America/New_York:20261107T180000
DTSTAMP:20260422T184021
CREATED:20250904T155039Z
LAST-MODIFIED:20250904T155039Z
UID:10017112-1794070800-1794074400@peaksisland.info
SUMMARY:Eucharist Service at New Brackett
DESCRIPTION:Eucharist service is now every Saturday at 5:00 pm at New Brackett
URL:https://peaksisland.info/event/eucharist-service-at-new-brackett/2026-11-07/
LOCATION:New Brackett Church\, 3 Church Ave\, Peaks Island\, ME\, 04108\, United States
CATEGORIES:Religion, Spiritual
END:VEVENT
BEGIN:VEVENT
DTSTART;TZID=America/New_York:20261108T083000
DTEND;TZID=America/New_York:20261108T100000
DTSTAMP:20260422T184022
CREATED:20250624T141712Z
LAST-MODIFIED:20250630T111218Z
UID:10015896-1794126600-1794132000@peaksisland.info
SUMMARY:Mass at St. Christopher's Church
DESCRIPTION:
URL:https://peaksisland.info/event/mass-at-st-christophers-church/2026-11-08/
LOCATION:St. Christopher’s Church\, 15 Central Avenue\, Peaks Island\, ME\, 04108\, United States
CATEGORIES:Religion, Spiritual
END:VEVENT
BEGIN:VEVENT
DTSTART;TZID=America/New_York:20261108T100000
DTEND;TZID=America/New_York:20261108T100000
DTSTAMP:20260422T184022
CREATED:20250624T141840Z
LAST-MODIFIED:20250630T104107Z
UID:10011428-1794132000-1794132000@peaksisland.info
SUMMARY:Worship at New Brackett Church
DESCRIPTION:
URL:https://peaksisland.info/event/worship-at-new-brackett-church/2026-11-08/
LOCATION:New Brackett Church\, 3 Church Ave\, Peaks Island\, ME\, 04108\, United States
CATEGORIES:Religion, Spiritual
END:VEVENT
BEGIN:VEVENT
DTSTART;TZID=America/New_York:20261108T154500
DTEND;TZID=America/New_York:20261108T164500
DTSTAMP:20260422T184022
CREATED:20260207T080751Z
LAST-MODIFIED:20260211T104757Z
UID:10023207-1794152700-1794156300@peaksisland.info
SUMMARY:Acoustic Music Circle
DESCRIPTION:Music Gathering \nSunday\, New Brackett Church\, 3:45pm. \nBring a song to play with others or a song to perform\, all levels welcome\, as are all instruments. Primarily acoustic\, though we do sometimes gently amplify bass.\nBring a song\, bring a friend\, BYOB. Spectators are welcome. Any questions\, contact O.B. O’Brien at 766-5555.
URL:https://peaksisland.info/event/acoustic-music-circle-3/2026-11-08/
LOCATION:New Brackett Church\, 3 Church Ave\, Peaks Island\, ME\, 04108\, United States
CATEGORIES:Music/Dance/Theater
END:VEVENT
BEGIN:VEVENT
DTSTART;TZID=America/New_York:20261109T100000
DTEND;TZID=America/New_York:20261109T110000
DTSTAMP:20260422T184022
CREATED:20251117T143654Z
LAST-MODIFIED:20251117T143655Z
UID:10010942-1794218400-1794222000@peaksisland.info
SUMMARY:Defend Democracy Messaging Project
DESCRIPTION:Speak Up for Democracy:\nJoin your neighbors to write your Representatives\n10 am @ Community Center
URL:https://peaksisland.info/event/defend-democracy-messaging-project-2/2026-11-09/
LOCATION:Peaks Island Community Center\, 129 Island SAvenue\, Peaks Island\, ME\, 04108
CATEGORIES:Community
ORGANIZER;CN="Ann Coughlan":MAILTO:annefcoughlin@gmail.com
END:VEVENT
BEGIN:VEVENT
DTSTART;TZID=America/New_York:20261109T130000
DTEND;TZID=America/New_York:20261109T140000
DTSTAMP:20260422T184022
CREATED:20241204T150803Z
LAST-MODIFIED:20241204T150804Z
UID:10009913-1794229200-1794232800@peaksisland.info
SUMMARY:Al-anon Meeting @ New Brackett
DESCRIPTION:all welcome
URL:https://peaksisland.info/event/al-anon-meeting-new-brackett-church-2/2026-11-09/
LOCATION:New Brackett Church\, 3 Church Ave\, Peaks Island\, ME\, 04108\, United States
CATEGORIES:Health
END:VEVENT
BEGIN:VEVENT
DTSTART;TZID=America/New_York:20261109T153000
DTEND;TZID=America/New_York:20261109T170000
DTSTAMP:20260422T184022
CREATED:20250624T204814Z
LAST-MODIFIED:20250815T105319Z
UID:10016643-1794238200-1794243600@peaksisland.info
SUMMARY:Food Pantry at New Brackett Church
DESCRIPTION:Food Pantry’s mission is to provide food assistance to island neighbors.\nIf you have questions or would like to make a donation\, contact Libra at 207-838-0337. \n 
URL:https://peaksisland.info/event/food-pantry-at-new-brackett-church/2026-11-09/
LOCATION:New Brackett Church\, 3 Church Ave\, Peaks Island\, ME\, 04108\, United States
CATEGORIES:Community,Food, Fests, Cooking, Bakes,Seniors
END:VEVENT
BEGIN:VEVENT
DTSTART;TZID=America/New_York:20261110T183000
DTEND;TZID=America/New_York:20261110T200000
DTSTAMP:20260422T184022
CREATED:20251003T153801Z
LAST-MODIFIED:20251003T153802Z
UID:10017384-1794335400-1794340800@peaksisland.info
SUMMARY:Cook Club at New Brackett Church
DESCRIPTION:Join in the fun of weekly Cook Club\, led by Pi Crosby and gathering at New Brackett Church. The main ingredient changes weekly. \nPlease contact Pi Crosby at pi.napple5407@gmail.com for more information!
URL:https://peaksisland.info/event/cook-club-at-new-brackett-church-2-2/2026-11-10/
LOCATION:New Brackett Church\, 3 Church Ave\, Peaks Island\, ME\, 04108\, United States
CATEGORIES:Food, Fests, Cooking, Bakes
END:VEVENT
BEGIN:VEVENT
DTSTART;TZID=America/New_York:20261110T190000
DTEND;TZID=America/New_York:20261110T200000
DTSTAMP:20260422T184022
CREATED:20251102T164944Z
LAST-MODIFIED:20251102T164944Z
UID:10019180-1794337200-1794340800@peaksisland.info
SUMMARY:Book Group
DESCRIPTION:Book Group @ Peaks Second Tuesday of the Month  \nThe Tuesday Adult Book Discussion Group \nTime: 7:00 – 8:00 pm \nJoin us on Tuesday\, November 11 to discuss The Women by Kristin Hannah. \n\nLocation: Peaks Island Community Room \nThis program is supported by Friends of the Peaks Island Library\nAll are welcome to join the book group. Titles are chosen in advance by the members who rotate leading the discussion. Meetings are fun and mind-broadening. Contact the Peaks Island Branch Library for help in procuring these titles. \nDec. 9 An Unfinished Love Story by Doris Kearns Goodwin \nJan. 13 White Heron by Sarah Oren Jewett \nFeb. 10 North Woods by Daniel Mason \nMar. 10 Foster by Claire Keegan \nApr. 14 The One-in-a-Million Boy by Monica Wood \nMay 12 Running with Sherman by Christopher McDougall \nJun. 16 Berry Pickers by Amanda Peters
URL:https://peaksisland.info/event/book-group/2026-11-10/
LOCATION:ME
CATEGORIES:Book Club
END:VEVENT
BEGIN:VEVENT
DTSTART;TZID=America/New_York:20261118T181500
DTEND;TZID=America/New_York:20261118T191500
DTSTAMP:20260422T184022
CREATED:20251214T200024Z
LAST-MODIFIED:20251214T200024Z
UID:10021494-1795025700-1795029300@peaksisland.info
SUMMARY:Peaks Island Council Meeting @ Community Center
DESCRIPTION:PI Council: 4th Wed of every month \nFMI:  https://linktr.ee/peaksislandcouncil
URL:https://peaksisland.info/event/peaks-island-council-meeting-community-center-2/2026-11-18/
LOCATION:Peaks Island Community Center\, 129 Island SAvenue\, Peaks Island\, ME\, 04108
CATEGORIES:Community,Peaks Island Council
END:VEVENT
BEGIN:VEVENT
DTSTART;TZID=America/New_York:20261201T160000
DTEND;TZID=America/New_York:20261201T170000
DTSTAMP:20260422T184022
CREATED:20251102T164717Z
LAST-MODIFIED:20251102T164717Z
UID:10019121-1796140800-1796144400@peaksisland.info
SUMMARY:Knitting Group at PI Library
DESCRIPTION:Knitting Group @ Peaks \nFirst Tuesday of each month  \nBring your current project and join other knitters for conversation and inspiration! \nAll are welcome\, as are all skill levels. \nMeets in the library the first Tuesday of the month 4 pm – 5 pm.
URL:https://peaksisland.info/event/knitting-group-at-pi-library/2026-12-01/
LOCATION:Peaks Island Community Center\, 129 Island SAvenue\, Peaks Island\, ME\, 04108
CATEGORIES:Art, Art Lessons, Creative Writing
ORGANIZER;CN="Peaks Island Library":MAILTO:peaks@portlandpubliclibrary.org
END:VEVENT
END:VCALENDAR