BEGIN:VCALENDAR
VERSION:2.0
PRODID:-//Peaks Island - ECPv6.15.17//NONSGML v1.0//EN
CALSCALE:GREGORIAN
METHOD:PUBLISH
X-WR-CALNAME:Peaks Island
X-ORIGINAL-URL:https://peaksisland.info
X-WR-CALDESC:Events for Peaks Island
REFRESH-INTERVAL;VALUE=DURATION:PT1H
X-Robots-Tag:noindex
X-PUBLISHED-TTL:PT1H
BEGIN:VTIMEZONE
TZID:America/New_York
BEGIN:DAYLIGHT
TZOFFSETFROM:-0500
TZOFFSETTO:-0400
TZNAME:EDT
DTSTART:20260308T070000
END:DAYLIGHT
BEGIN:STANDARD
TZOFFSETFROM:-0400
TZOFFSETTO:-0500
TZNAME:EST
DTSTART:20261101T060000
END:STANDARD
BEGIN:DAYLIGHT
TZOFFSETFROM:-0500
TZOFFSETTO:-0400
TZNAME:EDT
DTSTART:20270314T070000
END:DAYLIGHT
BEGIN:STANDARD
TZOFFSETFROM:-0400
TZOFFSETTO:-0500
TZNAME:EST
DTSTART:20271107T060000
END:STANDARD
BEGIN:DAYLIGHT
TZOFFSETFROM:-0500
TZOFFSETTO:-0400
TZNAME:EDT
DTSTART:20280312T070000
END:DAYLIGHT
BEGIN:STANDARD
TZOFFSETFROM:-0400
TZOFFSETTO:-0500
TZNAME:EST
DTSTART:20281105T060000
END:STANDARD
END:VTIMEZONE
BEGIN:VEVENT
DTSTART;TZID=America/New_York:20270116T090000
DTEND;TZID=America/New_York:20270116T094500
DTSTAMP:20260423T065315
CREATED:20251102T163234Z
LAST-MODIFIED:20251102T163234Z
UID:10018905-1800090000-1800092700@peaksisland.info
SUMMARY:Adult Writing
DESCRIPTION:Adult Writing Group @ Peaks \nSaturdays\, 9 am – 9:45 am  \nA writing group for adults every Saturday morning at the Peaks Island Branch Library.  This is a group for anyone who likes to write (or would like to start). All skill levels\, from beginner to experienced\, are welcome. Take inspiration from the weekly writing prompt or come with your own ideas and projects. \nSaturday mornings at 9 am – 9:45 am.
URL:https://peaksisland.info/event/adult-writing/2027-01-16/
LOCATION:Peaks Island Community Center\, 129 Island SAvenue\, Peaks Island\, ME\, 04108
CATEGORIES:Art, Art Lessons, Creative Writing
ORGANIZER;CN="Peaks Island Library":MAILTO:peaks@portlandpubliclibrary.org
END:VEVENT
BEGIN:VEVENT
DTSTART;TZID=America/New_York:20270116T170000
DTEND;TZID=America/New_York:20270116T180000
DTSTAMP:20260423T065315
CREATED:20250904T155039Z
LAST-MODIFIED:20250904T155039Z
UID:10017122-1800118800-1800122400@peaksisland.info
SUMMARY:Eucharist Service at New Brackett
DESCRIPTION:Eucharist service is now every Saturday at 5:00 pm at New Brackett
URL:https://peaksisland.info/event/eucharist-service-at-new-brackett/2027-01-16/
LOCATION:New Brackett Church\, 3 Church Ave\, Peaks Island\, ME\, 04108\, United States
CATEGORIES:Religion, Spiritual
END:VEVENT
BEGIN:VEVENT
DTSTART;TZID=America/New_York:20270117T083000
DTEND;TZID=America/New_York:20270117T100000
DTSTAMP:20260423T065315
CREATED:20250624T141712Z
LAST-MODIFIED:20250630T111218Z
UID:10015906-1800174600-1800180000@peaksisland.info
SUMMARY:Mass at St. Christopher's Church
DESCRIPTION:
URL:https://peaksisland.info/event/mass-at-st-christophers-church/2027-01-17/
LOCATION:St. Christopher’s Church\, 15 Central Avenue\, Peaks Island\, ME\, 04108\, United States
CATEGORIES:Religion, Spiritual
END:VEVENT
BEGIN:VEVENT
DTSTART;TZID=America/New_York:20270117T100000
DTEND;TZID=America/New_York:20270117T100000
DTSTAMP:20260423T065315
CREATED:20250624T141840Z
LAST-MODIFIED:20250630T104107Z
UID:10011438-1800180000-1800180000@peaksisland.info
SUMMARY:Worship at New Brackett Church
DESCRIPTION:
URL:https://peaksisland.info/event/worship-at-new-brackett-church/2027-01-17/
LOCATION:New Brackett Church\, 3 Church Ave\, Peaks Island\, ME\, 04108\, United States
CATEGORIES:Religion, Spiritual
END:VEVENT
BEGIN:VEVENT
DTSTART;TZID=America/New_York:20270117T154500
DTEND;TZID=America/New_York:20270117T164500
DTSTAMP:20260423T065315
CREATED:20260207T080751Z
LAST-MODIFIED:20260211T104757Z
UID:10023217-1800200700-1800204300@peaksisland.info
SUMMARY:Acoustic Music Circle
DESCRIPTION:Music Gathering \nSunday\, New Brackett Church\, 3:45pm. \nBring a song to play with others or a song to perform\, all levels welcome\, as are all instruments. Primarily acoustic\, though we do sometimes gently amplify bass.\nBring a song\, bring a friend\, BYOB. Spectators are welcome. Any questions\, contact O.B. O’Brien at 766-5555.
URL:https://peaksisland.info/event/acoustic-music-circle-3/2027-01-17/
LOCATION:New Brackett Church\, 3 Church Ave\, Peaks Island\, ME\, 04108\, United States
CATEGORIES:Music/Dance/Theater
END:VEVENT
BEGIN:VEVENT
DTSTART;TZID=America/New_York:20270118T100000
DTEND;TZID=America/New_York:20270118T110000
DTSTAMP:20260423T065315
CREATED:20251117T143654Z
LAST-MODIFIED:20251117T143655Z
UID:10010952-1800266400-1800270000@peaksisland.info
SUMMARY:Defend Democracy Messaging Project
DESCRIPTION:Speak Up for Democracy:\nJoin your neighbors to write your Representatives\n10 am @ Community Center
URL:https://peaksisland.info/event/defend-democracy-messaging-project-2/2027-01-18/
LOCATION:Peaks Island Community Center\, 129 Island SAvenue\, Peaks Island\, ME\, 04108
CATEGORIES:Community
ORGANIZER;CN="Ann Coughlan":MAILTO:annefcoughlin@gmail.com
END:VEVENT
BEGIN:VEVENT
DTSTART;TZID=America/New_York:20270118T130000
DTEND;TZID=America/New_York:20270118T140000
DTSTAMP:20260423T065315
CREATED:20241204T150803Z
LAST-MODIFIED:20241204T150804Z
UID:10009923-1800277200-1800280800@peaksisland.info
SUMMARY:Al-anon Meeting @ New Brackett
DESCRIPTION:all welcome
URL:https://peaksisland.info/event/al-anon-meeting-new-brackett-church-2/2027-01-18/
LOCATION:New Brackett Church\, 3 Church Ave\, Peaks Island\, ME\, 04108\, United States
CATEGORIES:Health
END:VEVENT
BEGIN:VEVENT
DTSTART;TZID=America/New_York:20270118T153000
DTEND;TZID=America/New_York:20270118T170000
DTSTAMP:20260423T065315
CREATED:20250624T204814Z
LAST-MODIFIED:20250815T105319Z
UID:10011961-1800286200-1800291600@peaksisland.info
SUMMARY:Food Pantry at New Brackett Church
DESCRIPTION:Food Pantry’s mission is to provide food assistance to island neighbors.\nIf you have questions or would like to make a donation\, contact Libra at 207-838-0337. \n 
URL:https://peaksisland.info/event/food-pantry-at-new-brackett-church/2027-01-18/
LOCATION:New Brackett Church\, 3 Church Ave\, Peaks Island\, ME\, 04108\, United States
CATEGORIES:Community,Food, Fests, Cooking, Bakes,Seniors
END:VEVENT
BEGIN:VEVENT
DTSTART;TZID=America/New_York:20270120T181500
DTEND;TZID=America/New_York:20270120T191500
DTSTAMP:20260423T065316
CREATED:20251214T200024Z
LAST-MODIFIED:20251214T200024Z
UID:10021496-1800468900-1800472500@peaksisland.info
SUMMARY:Peaks Island Council Meeting @ Community Center
DESCRIPTION:PI Council: 4th Wed of every month \nFMI:  https://linktr.ee/peaksislandcouncil
URL:https://peaksisland.info/event/peaks-island-council-meeting-community-center-2/2027-01-20/
LOCATION:Peaks Island Community Center\, 129 Island SAvenue\, Peaks Island\, ME\, 04108
CATEGORIES:Community,Peaks Island Council
END:VEVENT
BEGIN:VEVENT
DTSTART;TZID=America/New_York:20270202T160000
DTEND;TZID=America/New_York:20270202T170000
DTSTAMP:20260423T065316
CREATED:20251102T164717Z
LAST-MODIFIED:20251102T164717Z
UID:10019123-1801584000-1801587600@peaksisland.info
SUMMARY:Knitting Group at PI Library
DESCRIPTION:Knitting Group @ Peaks \nFirst Tuesday of each month  \nBring your current project and join other knitters for conversation and inspiration! \nAll are welcome\, as are all skill levels. \nMeets in the library the first Tuesday of the month 4 pm – 5 pm.
URL:https://peaksisland.info/event/knitting-group-at-pi-library/2027-02-02/
LOCATION:Peaks Island Community Center\, 129 Island SAvenue\, Peaks Island\, ME\, 04108
CATEGORIES:Art, Art Lessons, Creative Writing
ORGANIZER;CN="Peaks Island Library":MAILTO:peaks@portlandpubliclibrary.org
END:VEVENT
BEGIN:VEVENT
DTSTART;TZID=America/New_York:20270204T180000
DTEND;TZID=America/New_York:20270204T190000
DTSTAMP:20260423T065316
CREATED:20260131T065242Z
LAST-MODIFIED:20260131T065242Z
UID:10022880-1801764000-1801767600@peaksisland.info
SUMMARY:Island Drumming Circle
DESCRIPTION:all welcome \nAt Fay Garman House in July
URL:https://peaksisland.info/event/island-drumming-circle-new-brackett-2/2027-02-04/
LOCATION:Fay Garman House\, 89 Central Avenue\, Peaks Island\, ME\, 04108-1020
CATEGORIES:Music/Dance/Theater
END:VEVENT
END:VCALENDAR