BEGIN:VCALENDAR
VERSION:2.0
PRODID:-//Peaks Island - ECPv6.15.17//NONSGML v1.0//EN
CALSCALE:GREGORIAN
METHOD:PUBLISH
X-ORIGINAL-URL:https://peaksisland.info
X-WR-CALDESC:Events for Peaks Island
REFRESH-INTERVAL;VALUE=DURATION:PT1H
X-Robots-Tag:noindex
X-PUBLISHED-TTL:PT1H
BEGIN:VTIMEZONE
TZID:America/New_York
BEGIN:DAYLIGHT
TZOFFSETFROM:-0500
TZOFFSETTO:-0400
TZNAME:EDT
DTSTART:20250309T070000
END:DAYLIGHT
BEGIN:STANDARD
TZOFFSETFROM:-0400
TZOFFSETTO:-0500
TZNAME:EST
DTSTART:20251102T060000
END:STANDARD
BEGIN:DAYLIGHT
TZOFFSETFROM:-0500
TZOFFSETTO:-0400
TZNAME:EDT
DTSTART:20260308T070000
END:DAYLIGHT
BEGIN:STANDARD
TZOFFSETFROM:-0400
TZOFFSETTO:-0500
TZNAME:EST
DTSTART:20261101T060000
END:STANDARD
BEGIN:DAYLIGHT
TZOFFSETFROM:-0500
TZOFFSETTO:-0400
TZNAME:EDT
DTSTART:20270314T070000
END:DAYLIGHT
BEGIN:STANDARD
TZOFFSETFROM:-0400
TZOFFSETTO:-0500
TZNAME:EST
DTSTART:20271107T060000
END:STANDARD
END:VTIMEZONE
BEGIN:VEVENT
DTSTART;TZID=America/New_York:20260108T130000
DTEND;TZID=America/New_York:20260108T140000
DTSTAMP:20260423T232500
CREATED:20250624T210011Z
LAST-MODIFIED:20251214T165311Z
UID:10012952-1767877200-1767880800@peaksisland.info
SUMMARY:Adult Tap Classes
DESCRIPTION:An ongoing adult tap class\, open to all levels of experience\, including beginners!\nTap shoes not required. Focus is on basic steps and rhythmic variations\, leading to more complicated combinations as appropriate to class level. \nFor more information\, contact Caitlin Osborne at caitlinosbornedance@gmail.com or 814-574-3740\, or Timmi Sellers at 831-917-3092. \nTo sign up and sign the liability disclaimer in advance\, please click here.
URL:https://peaksisland.info/event/adult-tap-classes/2026-01-08/
LOCATION:New Brackett Church\, 3 Church Ave\, Peaks Island\, ME\, 04108\, United States
CATEGORIES:Music/Dance/Theater
END:VEVENT
BEGIN:VEVENT
DTSTART;TZID=America/New_York:20260108T180000
DTEND;TZID=America/New_York:20260108T190000
DTSTAMP:20260423T232500
CREATED:20240105T005419Z
LAST-MODIFIED:20250808T124635Z
UID:10009261-1767895200-1767898800@peaksisland.info
SUMMARY:Island Drumming Circle
DESCRIPTION:all welcome \nAt Fay Garman House in July
URL:https://peaksisland.info/event/island-drumming-circle-new-brackett/2026-01-08/
LOCATION:Fay Garman House\, 89 Central Avenue\, Peaks Island\, ME\, 04108-1020
CATEGORIES:Music/Dance/Theater
END:VEVENT
BEGIN:VEVENT
DTSTART;TZID=America/New_York:20260109T104500
DTEND;TZID=America/New_York:20260109T111500
DTSTAMP:20260423T232500
CREATED:20250626T113230Z
LAST-MODIFIED:20250815T110440Z
UID:10014604-1767955500-1767957300@peaksisland.info
SUMMARY:Pre School Story Time
DESCRIPTION:Preschool Storytime features more challenging stories\, songs\, movement\, and activities to help preschool-age children continue to develop their early literacy skills! Parents and caregivers can play and sing along while learning about new books\, songs\, fingerplays and stories from our librarians. \n\n\n\n\nDisclaimer(s)\n\n\n\n\nAll children are welcome to attend the PPL Storytime that best fits their schedule. Adults must be accompanied by a child. Caregivers should remain with their child during Storytime. We encourage caregivers to fully participate and enjoy the fun with their children!
URL:https://peaksisland.info/event/pre-school-story-time/2026-01-09/
LOCATION:Peaks Island Library\, Temporary home at Peaks Island Elementary School (rear entrance)\, Peaks Island\, 04108\, United States
CATEGORIES:Children
ORGANIZER;CN="Peaks Island Library":MAILTO:peaks@portlandpubliclibrary.org
END:VEVENT
BEGIN:VEVENT
DTSTART;TZID=America/New_York:20260109T151500
DTEND;TZID=America/New_York:20260109T170000
DTSTAMP:20260423T232500
CREATED:20260109T194339Z
LAST-MODIFIED:20260109T194339Z
UID:10022233-1767971700-1767978000@peaksisland.info
SUMMARY:Creative Writing Grades 3-5
DESCRIPTION:Creative Writing for Kids @ Peaks (Grades 3–5)Fridays afternoons\, 3:15 pm  \nCreative Writing for Kids (Grades 3–5) Friday afternoons at 3:15 pm. \nBring your imagination – journals\, pencils and snacks will be provided. \nQuestions contact the library 766-5540 or email us peaks@portlib.org
URL:https://peaksisland.info/event/creative-writing-grades-3-5/2026-01-09/
LOCATION:Peaks Island Library\, Temporary home at Peaks Island Elementary School (rear entrance)\, Peaks Island\, 04108\, United States
CATEGORIES:Art, Art Lessons, Creative Writing,Children
ORGANIZER;CN="Peaks Island Library":MAILTO:peaks@portlandpubliclibrary.org
END:VEVENT
BEGIN:VEVENT
DTSTART;TZID=America/New_York:20260110T090000
DTEND;TZID=America/New_York:20260110T094500
DTSTAMP:20260423T232500
CREATED:20251102T163234Z
LAST-MODIFIED:20251102T163234Z
UID:10018852-1768035600-1768038300@peaksisland.info
SUMMARY:Adult Writing
DESCRIPTION:Adult Writing Group @ Peaks \nSaturdays\, 9 am – 9:45 am  \nA writing group for adults every Saturday morning at the Peaks Island Branch Library.  This is a group for anyone who likes to write (or would like to start). All skill levels\, from beginner to experienced\, are welcome. Take inspiration from the weekly writing prompt or come with your own ideas and projects. \nSaturday mornings at 9 am – 9:45 am.
URL:https://peaksisland.info/event/adult-writing/2026-01-10/
LOCATION:Peaks Island Community Center\, 129 Island SAvenue\, Peaks Island\, ME\, 04108
CATEGORIES:Art, Art Lessons, Creative Writing
ORGANIZER;CN="Peaks Island Library":MAILTO:peaks@portlandpubliclibrary.org
END:VEVENT
BEGIN:VEVENT
DTSTART;TZID=America/New_York:20260110T170000
DTEND;TZID=America/New_York:20260110T180000
DTSTAMP:20260423T232500
CREATED:20250904T155039Z
LAST-MODIFIED:20250904T155039Z
UID:10017069-1768064400-1768068000@peaksisland.info
SUMMARY:Eucharist Service at New Brackett
DESCRIPTION:Eucharist service is now every Saturday at 5:00 pm at New Brackett
URL:https://peaksisland.info/event/eucharist-service-at-new-brackett/2026-01-10/
LOCATION:New Brackett Church\, 3 Church Ave\, Peaks Island\, ME\, 04108\, United States
CATEGORIES:Religion, Spiritual
END:VEVENT
BEGIN:VEVENT
DTSTART;TZID=America/New_York:20260111T083000
DTEND;TZID=America/New_York:20260111T100000
DTSTAMP:20260423T232500
CREATED:20250624T141712Z
LAST-MODIFIED:20250630T111218Z
UID:10015853-1768120200-1768125600@peaksisland.info
SUMMARY:Mass at St. Christopher's Church
DESCRIPTION:
URL:https://peaksisland.info/event/mass-at-st-christophers-church/2026-01-11/
LOCATION:St. Christopher’s Church\, 15 Central Avenue\, Peaks Island\, ME\, 04108\, United States
CATEGORIES:Religion, Spiritual
END:VEVENT
BEGIN:VEVENT
DTSTART;TZID=America/New_York:20260111T100000
DTEND;TZID=America/New_York:20260111T100000
DTSTAMP:20260423T232500
CREATED:20250624T141840Z
LAST-MODIFIED:20250630T104107Z
UID:10011385-1768125600-1768125600@peaksisland.info
SUMMARY:Worship at New Brackett Church
DESCRIPTION:
URL:https://peaksisland.info/event/worship-at-new-brackett-church/2026-01-11/
LOCATION:New Brackett Church\, 3 Church Ave\, Peaks Island\, ME\, 04108\, United States
CATEGORIES:Religion, Spiritual
END:VEVENT
BEGIN:VEVENT
DTSTART;TZID=America/New_York:20260111T150000
DTEND;TZID=America/New_York:20260111T170000
DTSTAMP:20260423T232500
CREATED:20260109T194922Z
LAST-MODIFIED:20260110T151918Z
UID:10022494-1768143600-1768150800@peaksisland.info
SUMMARY:Family Gym Drop In
DESCRIPTION:to Register: \nhttps://portlandme.myrec.com/info/activities/program_details.aspx?ProgramID=29913 \n 
URL:https://peaksisland.info/event/family-gym-drop-in/2026-01-11/
LOCATION:Peaks Island Elementary School\, 4 Church Avenue\, Peaks Island\, ME\, 04108\, United States
CATEGORIES:Children,Sports and Exercise
ORGANIZER;CN="Portland Parks & Recreation":MAILTO:dianer@portlandmaine.gov
END:VEVENT
BEGIN:VEVENT
DTSTART;TZID=America/New_York:20260111T170000
DTEND;TZID=America/New_York:20260111T183000
DTSTAMP:20260423T232500
CREATED:20250918T145851Z
LAST-MODIFIED:20250918T145851Z
UID:10017866-1768150800-1768156200@peaksisland.info
SUMMARY:PITEA Dinner
DESCRIPTION:Comfort Food \nYour donation supports Energy and Tax relief for Fellow Islanders
URL:https://peaksisland.info/event/pitea-dinner-4/
LOCATION:New Brackett Church\, 3 Church Ave\, Peaks Island\, ME\, 04108\, United States
CATEGORIES:Community,Food, Fests, Cooking, Bakes
END:VEVENT
BEGIN:VEVENT
DTSTART;TZID=America/New_York:20260113T154500
DTEND;TZID=America/New_York:20260113T170000
DTSTAMP:20260423T232500
CREATED:20260109T195351Z
LAST-MODIFIED:20260109T195351Z
UID:10022755-1768319100-1768323600@peaksisland.info
SUMMARY:Adult Beginner Ballet with Caitlin Osborne
DESCRIPTION:
URL:https://peaksisland.info/event/adult-beginner-ballet-with-caitlin-osborne/
LOCATION:New Brackett Church\, 3 Church Ave\, Peaks Island\, ME\, 04108\, United States
CATEGORIES:Music/Dance/Theater,Sports and Exercise
END:VEVENT
BEGIN:VEVENT
DTSTART;TZID=America/New_York:20260113T190000
DTEND;TZID=America/New_York:20260113T200000
DTSTAMP:20260423T232500
CREATED:20251102T164944Z
LAST-MODIFIED:20251102T164944Z
UID:10019170-1768330800-1768334400@peaksisland.info
SUMMARY:Book Group
DESCRIPTION:Book Group @ Peaks Second Tuesday of the Month  \nThe Tuesday Adult Book Discussion Group \nTime: 7:00 – 8:00 pm \nJoin us on Tuesday\, November 11 to discuss The Women by Kristin Hannah. \n\nLocation: Peaks Island Community Room \nThis program is supported by Friends of the Peaks Island Library\nAll are welcome to join the book group. Titles are chosen in advance by the members who rotate leading the discussion. Meetings are fun and mind-broadening. Contact the Peaks Island Branch Library for help in procuring these titles. \nDec. 9 An Unfinished Love Story by Doris Kearns Goodwin \nJan. 13 White Heron by Sarah Oren Jewett \nFeb. 10 North Woods by Daniel Mason \nMar. 10 Foster by Claire Keegan \nApr. 14 The One-in-a-Million Boy by Monica Wood \nMay 12 Running with Sherman by Christopher McDougall \nJun. 16 Berry Pickers by Amanda Peters
URL:https://peaksisland.info/event/book-group/2026-01-13/
LOCATION:ME
CATEGORIES:Book Club
END:VEVENT
BEGIN:VEVENT
DTSTART;TZID=America/New_York:20260114T010000
DTEND;TZID=America/New_York:20260114T150000
DTSTAMP:20260423T232500
CREATED:20260109T195845Z
LAST-MODIFIED:20260109T195846Z
UID:10022756-1768352400-1768402800@peaksisland.info
SUMMARY:Peaks Island Historical Society Monthly Meeting
DESCRIPTION:
URL:https://peaksisland.info/event/peaks-island-historical-society-monthly-meeting-2/
LOCATION:St Christoper’s Community Room\, 15 Central Avenue\, Peaks Island\, 04108\, United States
CATEGORIES:History
ORGANIZER;CN="Peaks Island Historical Society":MAILTO:peakshistory@gmail.com
END:VEVENT
BEGIN:VEVENT
DTSTART;TZID=America/New_York:20260115T180000
DTEND;TZID=America/New_York:20260115T200000
DTSTAMP:20260423T232500
CREATED:20260109T200139Z
LAST-MODIFIED:20260109T200139Z
UID:10022757-1768500000-1768507200@peaksisland.info
SUMMARY:Legion Live: The Lied To's & Nate Coughlin
DESCRIPTION:
URL:https://peaksisland.info/event/legion-live-the-lied-tos-nate-coughlin/
LOCATION:American Legion-McVane Post\, Welch Street\, Peaks Island\, ME\, 04108\, United States
CATEGORIES:Music/Dance/Theater
END:VEVENT
BEGIN:VEVENT
DTSTART;TZID=America/New_York:20260116T150000
DTEND;TZID=America/New_York:20260116T170000
DTSTAMP:20260423T232500
CREATED:20251107T151847Z
LAST-MODIFIED:20260413T204147Z
UID:10021446-1768575600-1768582800@peaksisland.info
SUMMARY:Long Winter's Night Concert Series
DESCRIPTION:
URL:https://peaksisland.info/event/long-winters-night-concert-series/2026-01-16/
LOCATION:New Brackett Church\, 3 Church Ave\, Peaks Island\, ME\, 04108\, United States
CATEGORIES:Music/Dance/Theater
END:VEVENT
BEGIN:VEVENT
DTSTART;TZID=America/New_York:20260117T093000
DTEND;TZID=America/New_York:20260117T120000
DTSTAMP:20260423T232500
CREATED:20260110T135858Z
LAST-MODIFIED:20260110T135858Z
UID:10022758-1768642200-1768651200@peaksisland.info
SUMMARY:Winter Clothing Swap
DESCRIPTION:for more info:  https://mcusercontent.com/9061794edac89613b51244c0d/files/c822ebd0-71dd-8995-01db-744a7892f8ee/winter_clothing_swap_details.pdf
URL:https://peaksisland.info/event/winter-clothing-swap/
LOCATION:Peaks Island Community Center\, 129 Island SAvenue\, Peaks Island\, ME\, 04108
CATEGORIES:Community
ORGANIZER;CN="Peaks Island Library":MAILTO:peaks@portlandpubliclibrary.org
END:VEVENT
BEGIN:VEVENT
DTSTART;TZID=America/New_York:20260117T163000
DTEND;TZID=America/New_York:20260117T183000
DTSTAMP:20260423T232501
CREATED:20260110T150927Z
LAST-MODIFIED:20260110T150928Z
UID:10022759-1768667400-1768674600@peaksisland.info
SUMMARY:Beano for Kids
DESCRIPTION:
URL:https://peaksisland.info/event/beano-for-kids/
LOCATION:American Legion-McVane Post\, Welch Street\, Peaks Island\, ME\, 04108\, United States
CATEGORIES:Children
ORGANIZER;CN="Amercian Legion Post":MAILTO:legionpost142@gmail.com
END:VEVENT
BEGIN:VEVENT
DTSTART;TZID=America/New_York:20260117T183000
DTEND;TZID=America/New_York:20260117T193000
DTSTAMP:20260423T232501
CREATED:20260110T151046Z
LAST-MODIFIED:20260110T151046Z
UID:10022760-1768674600-1768678200@peaksisland.info
SUMMARY:Beano 21+
DESCRIPTION:
URL:https://peaksisland.info/event/beano-21/
LOCATION:American Legion-McVane Post\, Welch Street\, Peaks Island\, ME\, 04108\, United States
CATEGORIES:Community
ORGANIZER;CN="Amercian Legion Post":MAILTO:legionpost142@gmail.com
END:VEVENT
BEGIN:VEVENT
DTSTART;TZID=America/New_York:20260117T190000
DTEND;TZID=America/New_York:20260117T210000
DTSTAMP:20260423T232501
CREATED:20260110T151416Z
LAST-MODIFIED:20260110T151416Z
UID:10022761-1768676400-1768683600@peaksisland.info
SUMMARY:Come See me in the Good Light Film and discussion; Wiley Fundraiser
DESCRIPTION:
URL:https://peaksisland.info/event/come-see-me-in-the-good-light-film-and-discussion-wiley-fundraiser/
LOCATION:New Brackett Church\, 3 Church Ave\, Peaks Island\, ME\, 04108\, United States
CATEGORIES:Community,Scholarship
END:VEVENT
BEGIN:VEVENT
DTSTART;TZID=America/New_York:20260121T181500
DTEND;TZID=America/New_York:20260121T191500
DTSTAMP:20260423T232501
CREATED:20251214T200024Z
LAST-MODIFIED:20251214T200024Z
UID:10021484-1769019300-1769022900@peaksisland.info
SUMMARY:Peaks Island Council Meeting @ Community Center
DESCRIPTION:PI Council: 4th Wed of every month \nFMI:  https://linktr.ee/peaksislandcouncil
URL:https://peaksisland.info/event/peaks-island-council-meeting-community-center-2/2026-01-21/
LOCATION:Peaks Island Community Center\, 129 Island SAvenue\, Peaks Island\, ME\, 04108
CATEGORIES:Community,Peaks Island Council
END:VEVENT
BEGIN:VEVENT
DTSTART;TZID=America/New_York:20260131T103000
DTEND;TZID=America/New_York:20260131T120000
DTSTAMP:20260423T232501
CREATED:20260130T095609Z
LAST-MODIFIED:20260130T095611Z
UID:10022843-1769855400-1769860800@peaksisland.info
SUMMARY:Scott Nash "Draw Off"
DESCRIPTION:Register:  https://falmouth.librarycalendar.com/IIDrawoff \nCelebrate the conclusion to the Great State exhibition! Challenge Illustration Institute’s co-founder author/illustrator Scott Nash and a surprise guest with your silliest requests for a drawing. In front of the crowd\, Scott and his guest will draw your idea (to the best of their ability on the spot!) without seeing each other’s interpretation – yet you will see both. An entertaining event that cheers on creativity in action and the notion that there are\, indeed\, many ways to draw a unicorn riding a bicycle in a snowstorm! Join us as we close our exhibition with a lively celebration of illustration. You won’t want to miss the final program in the Illustration Institute Great Slate of Programming series! \nAll Ages~ All are welcome! There is no cost to attend this event. Registration is required as space is limited. \nAbout Scott Nash\nScott Nash is a Maine-based illustrator\, educator\, graphic designer\, product designer\, children’s book illustrator\, and writer. He is the co-director of the Illustration Institute and has been instrumental in the growth of the Illustration Department at Maine College of Art & Design\, which is now the largest department in the school. Nash is also known for his work on the Flat Stanley books and his design of logos for Nickelodeon\, Nick at Nite\, Nick Jr.\, and Comedy Central. He founded the illustration program at Maine College of Art and runs NASHBOX\, a graphic design and illustration company with his wife\, Nancy Gibson-Nash.
URL:https://peaksisland.info/event/scott-nash-draw-off/
LOCATION:Falmouth Memorial Library\, 5 Lunt Road\, Falmouth\, ME\, 04105\, United States
CATEGORIES:Art, Art Lessons, Creative Writing
END:VEVENT
BEGIN:VEVENT
DTSTART;TZID=America/New_York:20260205T180000
DTEND;TZID=America/New_York:20260205T200000
DTSTAMP:20260423T232501
CREATED:20260131T065512Z
LAST-MODIFIED:20260131T065514Z
UID:10022928-1770314400-1770321600@peaksisland.info
SUMMARY:Isaac Rodriguez Nkanza  at the Legion
DESCRIPTION:
URL:https://peaksisland.info/event/isaac-rodriguez-nkanza-at-the-legion/
LOCATION:ME
CATEGORIES:Music/Dance/Theater
END:VEVENT
BEGIN:VEVENT
DTSTART;TZID=America/New_York:20260205T180000
DTEND;TZID=America/New_York:20260205T200000
DTSTAMP:20260423T232501
CREATED:20260204T191136Z
LAST-MODIFIED:20260204T191137Z
UID:10022938-1770314400-1770321600@peaksisland.info
SUMMARY:Friends of Isaac Benefit Concert
DESCRIPTION:
URL:https://peaksisland.info/event/friends-of-isaac-benefit-concert/
LOCATION:American Legion-McVane Post\, Welch Street\, Peaks Island\, ME\, 04108\, United States
CATEGORIES:Music/Dance/Theater
ORGANIZER;CN="Amercian Legion Post":MAILTO:legionpost142@gmail.com
END:VEVENT
BEGIN:VEVENT
DTSTART;TZID=America/New_York:20260206T173000
DTEND;TZID=America/New_York:20260206T203000
DTSTAMP:20260423T232501
CREATED:20260131T071132Z
LAST-MODIFIED:20260131T071132Z
UID:10022929-1770399000-1770409800@peaksisland.info
SUMMARY:Date Night!
DESCRIPTION:New Brackett Church volunteers will watch your children\, ages infant through grade 5\, while you and your partner enjoy a special night out. Date Night runs from 5:30pm to 8:30pm. \nActivities include a kid-friendly dinner\, games\, arts and crafts and a movie. There is no fee for Date Night\, however donations are gratefully accepted. \nPre-registration is mandatory\, to ensure we have enough adult volunteers. The event is limited to 20 children. \nThe event is full – please email admin@newbrackettchurch.org to place your child’s name on a wait list.
URL:https://peaksisland.info/event/date-night/
LOCATION:New Brackett Church\, 3 Church Ave\, Peaks Island\, ME\, 04108\, United States
CATEGORIES:Children
END:VEVENT
BEGIN:VEVENT
DTSTART;TZID=America/New_York:20260206T180000
DTEND;TZID=America/New_York:20260206T190000
DTSTAMP:20260423T232501
CREATED:20260131T085750Z
LAST-MODIFIED:20260131T085750Z
UID:10022930-1770400800-1770404400@peaksisland.info
SUMMARY:Spanish Conversation at the Legion
DESCRIPTION:
URL:https://peaksisland.info/event/spanish-conversation-at-the-legion-2/
LOCATION:American Legion-McVane Post\, Welch Street\, Peaks Island\, ME\, 04108\, United States
CATEGORIES:Community
END:VEVENT
BEGIN:VEVENT
DTSTART;TZID=America/New_York:20260207T090000
DTEND;TZID=America/New_York:20260207T110000
DTSTAMP:20260423T232501
CREATED:20260131T090207Z
LAST-MODIFIED:20260131T090207Z
UID:10022931-1770454800-1770462000@peaksisland.info
SUMMARY:Peaks Island Fund Grant Breakfast
DESCRIPTION:RSVP here: info@peaksislandfund.org <info@peaksislandfund.org>
URL:https://peaksisland.info/event/peaks-island-fund-grant-breakfast/
LOCATION:New Brackett Church\, 3 Church Ave\, Peaks Island\, ME\, 04108\, United States
CATEGORIES:Community
END:VEVENT
BEGIN:VEVENT
DTSTART;TZID=America/New_York:20260207T120000
DTEND;TZID=America/New_York:20260207T160000
DTSTAMP:20260423T232501
CREATED:20260207T075741Z
LAST-MODIFIED:20260207T080113Z
UID:10022942-1770465600-1770480000@peaksisland.info
SUMMARY:No ICE in Maine Skill Share
DESCRIPTION:https://www.zeffy.com/en-US/ticketing/community-preparedness-skillshare \nLocation provided at registration
URL:https://peaksisland.info/event/no-ice-in-maine-skill-share/
LOCATION:ME
CATEGORIES:Community
END:VEVENT
BEGIN:VEVENT
DTSTART;TZID=America/New_York:20260207T170000
DTEND;TZID=America/New_York:20260207T200000
DTSTAMP:20260423T232501
CREATED:20260207T080306Z
LAST-MODIFIED:20260207T080306Z
UID:10022943-1770483600-1770494400@peaksisland.info
SUMMARY:Legion Dinner - Baked Ziti
DESCRIPTION:Suggested donation $15 pp
URL:https://peaksisland.info/event/legion-dinner-baked-ziti/
LOCATION:American Legion-McVane Post\, Welch Street\, Peaks Island\, ME\, 04108\, United States
CATEGORIES:Food, Fests, Cooking, Bakes
ORGANIZER;CN="Amercian Legion Post":MAILTO:legionpost142@gmail.com
END:VEVENT
BEGIN:VEVENT
DTSTART;TZID=America/New_York:20260208T154500
DTEND;TZID=America/New_York:20260208T164500
DTSTAMP:20260423T232501
CREATED:20260207T080751Z
LAST-MODIFIED:20260211T104757Z
UID:10022944-1770565500-1770569100@peaksisland.info
SUMMARY:Acoustic Music Circle
DESCRIPTION:Music Gathering \nSunday\, New Brackett Church\, 3:45pm. \nBring a song to play with others or a song to perform\, all levels welcome\, as are all instruments. Primarily acoustic\, though we do sometimes gently amplify bass.\nBring a song\, bring a friend\, BYOB. Spectators are welcome. Any questions\, contact O.B. O’Brien at 766-5555.
URL:https://peaksisland.info/event/acoustic-music-circle-3/2026-02-08/
LOCATION:New Brackett Church\, 3 Church Ave\, Peaks Island\, ME\, 04108\, United States
CATEGORIES:Music/Dance/Theater
END:VEVENT
BEGIN:VEVENT
DTSTART;TZID=America/New_York:20260208T170000
DTEND;TZID=America/New_York:20260208T183000
DTSTAMP:20260423T232501
CREATED:20250918T145952Z
LAST-MODIFIED:20250918T145952Z
UID:10017867-1770570000-1770575400@peaksisland.info
SUMMARY:PITEA Dinner
DESCRIPTION:Generational Greats \nYour donation supports Energy and Tax relief for Fellow Islanders
URL:https://peaksisland.info/event/pitea-dinner-5/
LOCATION:New Brackett Church\, 3 Church Ave\, Peaks Island\, ME\, 04108\, United States
CATEGORIES:Community,Food, Fests, Cooking, Bakes
END:VEVENT
END:VCALENDAR