BEGIN:VCALENDAR
VERSION:2.0
PRODID:-//Peaks Island - ECPv6.15.17//NONSGML v1.0//EN
CALSCALE:GREGORIAN
METHOD:PUBLISH
X-ORIGINAL-URL:https://peaksisland.info
X-WR-CALDESC:Events for Peaks Island
REFRESH-INTERVAL;VALUE=DURATION:PT1H
X-Robots-Tag:noindex
X-PUBLISHED-TTL:PT1H
BEGIN:VTIMEZONE
TZID:America/New_York
BEGIN:DAYLIGHT
TZOFFSETFROM:-0500
TZOFFSETTO:-0400
TZNAME:EDT
DTSTART:20250309T070000
END:DAYLIGHT
BEGIN:STANDARD
TZOFFSETFROM:-0400
TZOFFSETTO:-0500
TZNAME:EST
DTSTART:20251102T060000
END:STANDARD
BEGIN:DAYLIGHT
TZOFFSETFROM:-0500
TZOFFSETTO:-0400
TZNAME:EDT
DTSTART:20260308T070000
END:DAYLIGHT
BEGIN:STANDARD
TZOFFSETFROM:-0400
TZOFFSETTO:-0500
TZNAME:EST
DTSTART:20261101T060000
END:STANDARD
BEGIN:DAYLIGHT
TZOFFSETFROM:-0500
TZOFFSETTO:-0400
TZNAME:EDT
DTSTART:20270314T070000
END:DAYLIGHT
BEGIN:STANDARD
TZOFFSETFROM:-0400
TZOFFSETTO:-0500
TZNAME:EST
DTSTART:20271107T060000
END:STANDARD
END:VTIMEZONE
BEGIN:VEVENT
DTSTART;TZID=America/New_York:20260226T130000
DTEND;TZID=America/New_York:20260226T140000
DTSTAMP:20260419T202321
CREATED:20250624T210011Z
LAST-MODIFIED:20251214T165311Z
UID:10012959-1772110800-1772114400@peaksisland.info
SUMMARY:Adult Tap Classes
DESCRIPTION:An ongoing adult tap class\, open to all levels of experience\, including beginners!\nTap shoes not required. Focus is on basic steps and rhythmic variations\, leading to more complicated combinations as appropriate to class level. \nFor more information\, contact Caitlin Osborne at caitlinosbornedance@gmail.com or 814-574-3740\, or Timmi Sellers at 831-917-3092. \nTo sign up and sign the liability disclaimer in advance\, please click here.
URL:https://peaksisland.info/event/adult-tap-classes/2026-02-26/
LOCATION:New Brackett Church\, 3 Church Ave\, Peaks Island\, ME\, 04108\, United States
CATEGORIES:Music/Dance/Theater
END:VEVENT
BEGIN:VEVENT
DTSTART;TZID=America/New_York:20260226T180000
DTEND;TZID=America/New_York:20260226T200000
DTSTAMP:20260419T202322
CREATED:20260220T221646Z
LAST-MODIFIED:20260220T221646Z
UID:10023474-1772128800-1772136000@peaksisland.info
SUMMARY:Legion Live  -  Sean Mencher
DESCRIPTION:
URL:https://peaksisland.info/event/legion-live-sean-mencher/
LOCATION:American Legion-McVane Post\, Welch Street\, Peaks Island\, ME\, 04108\, United States
CATEGORIES:Music/Dance/Theater
ORGANIZER;CN="Amercian Legion Post":MAILTO:legionpost142@gmail.com
END:VEVENT
BEGIN:VEVENT
DTSTART;TZID=America/New_York:20260227T104500
DTEND;TZID=America/New_York:20260227T111500
DTSTAMP:20260419T202322
CREATED:20250626T113230Z
LAST-MODIFIED:20250815T110440Z
UID:10014611-1772189100-1772190900@peaksisland.info
SUMMARY:Pre School Story Time
DESCRIPTION:Preschool Storytime features more challenging stories\, songs\, movement\, and activities to help preschool-age children continue to develop their early literacy skills! Parents and caregivers can play and sing along while learning about new books\, songs\, fingerplays and stories from our librarians. \n\n\n\n\nDisclaimer(s)\n\n\n\n\nAll children are welcome to attend the PPL Storytime that best fits their schedule. Adults must be accompanied by a child. Caregivers should remain with their child during Storytime. We encourage caregivers to fully participate and enjoy the fun with their children!
URL:https://peaksisland.info/event/pre-school-story-time/2026-02-27/
LOCATION:Peaks Island Library\, Temporary home at Peaks Island Elementary School (rear entrance)\, Peaks Island\, 04108\, United States
CATEGORIES:Children
ORGANIZER;CN="Peaks Island Library":MAILTO:peaks@portlandpubliclibrary.org
END:VEVENT
BEGIN:VEVENT
DTSTART;TZID=America/New_York:20260227T151500
DTEND;TZID=America/New_York:20260227T170000
DTSTAMP:20260419T202322
CREATED:20260109T194339Z
LAST-MODIFIED:20260109T194339Z
UID:10022240-1772205300-1772211600@peaksisland.info
SUMMARY:Creative Writing Grades 3-5
DESCRIPTION:Creative Writing for Kids @ Peaks (Grades 3–5)Fridays afternoons\, 3:15 pm  \nCreative Writing for Kids (Grades 3–5) Friday afternoons at 3:15 pm. \nBring your imagination – journals\, pencils and snacks will be provided. \nQuestions contact the library 766-5540 or email us peaks@portlib.org
URL:https://peaksisland.info/event/creative-writing-grades-3-5/2026-02-27/
LOCATION:Peaks Island Library\, Temporary home at Peaks Island Elementary School (rear entrance)\, Peaks Island\, 04108\, United States
CATEGORIES:Art, Art Lessons, Creative Writing,Children
ORGANIZER;CN="Peaks Island Library":MAILTO:peaks@portlandpubliclibrary.org
END:VEVENT
BEGIN:VEVENT
DTSTART;TZID=America/New_York:20260228T090000
DTEND;TZID=America/New_York:20260228T094500
DTSTAMP:20260419T202322
CREATED:20251102T163234Z
LAST-MODIFIED:20251102T163234Z
UID:10018859-1772269200-1772271900@peaksisland.info
SUMMARY:Adult Writing
DESCRIPTION:Adult Writing Group @ Peaks \nSaturdays\, 9 am – 9:45 am  \nA writing group for adults every Saturday morning at the Peaks Island Branch Library.  This is a group for anyone who likes to write (or would like to start). All skill levels\, from beginner to experienced\, are welcome. Take inspiration from the weekly writing prompt or come with your own ideas and projects. \nSaturday mornings at 9 am – 9:45 am.
URL:https://peaksisland.info/event/adult-writing/2026-02-28/
LOCATION:Peaks Island Community Center\, 129 Island SAvenue\, Peaks Island\, ME\, 04108
CATEGORIES:Art, Art Lessons, Creative Writing
ORGANIZER;CN="Peaks Island Library":MAILTO:peaks@portlandpubliclibrary.org
END:VEVENT
BEGIN:VEVENT
DTSTART;TZID=America/New_York:20260228T130000
DTEND;TZID=America/New_York:20260228T150000
DTSTAMP:20260419T202322
CREATED:20260220T221846Z
LAST-MODIFIED:20260220T221846Z
UID:10023475-1772283600-1772290800@peaksisland.info
SUMMARY:Todd Healey Memorial and Reception
DESCRIPTION:
URL:https://peaksisland.info/event/todd-healey-memorial-and-reception/
LOCATION:New Brackett Church\, 3 Church Ave\, Peaks Island\, ME\, 04108\, United States
CATEGORIES:Community
END:VEVENT
BEGIN:VEVENT
DTSTART;TZID=America/New_York:20260228T170000
DTEND;TZID=America/New_York:20260228T180000
DTSTAMP:20260419T202322
CREATED:20250904T155039Z
LAST-MODIFIED:20250904T155039Z
UID:10017076-1772298000-1772301600@peaksisland.info
SUMMARY:Eucharist Service at New Brackett
DESCRIPTION:Eucharist service is now every Saturday at 5:00 pm at New Brackett
URL:https://peaksisland.info/event/eucharist-service-at-new-brackett/2026-02-28/
LOCATION:New Brackett Church\, 3 Church Ave\, Peaks Island\, ME\, 04108\, United States
CATEGORIES:Religion, Spiritual
END:VEVENT
BEGIN:VEVENT
DTSTART;TZID=America/New_York:20260301T083000
DTEND;TZID=America/New_York:20260301T100000
DTSTAMP:20260419T202322
CREATED:20250624T141712Z
LAST-MODIFIED:20250630T111218Z
UID:10015860-1772353800-1772359200@peaksisland.info
SUMMARY:Mass at St. Christopher's Church
DESCRIPTION:
URL:https://peaksisland.info/event/mass-at-st-christophers-church/2026-03-01/
LOCATION:St. Christopher’s Church\, 15 Central Avenue\, Peaks Island\, ME\, 04108\, United States
CATEGORIES:Religion, Spiritual
END:VEVENT
BEGIN:VEVENT
DTSTART;TZID=America/New_York:20260301T100000
DTEND;TZID=America/New_York:20260301T100000
DTSTAMP:20260419T202322
CREATED:20250624T141840Z
LAST-MODIFIED:20250630T104107Z
UID:10011392-1772359200-1772359200@peaksisland.info
SUMMARY:Worship at New Brackett Church
DESCRIPTION:
URL:https://peaksisland.info/event/worship-at-new-brackett-church/2026-03-01/
LOCATION:New Brackett Church\, 3 Church Ave\, Peaks Island\, ME\, 04108\, United States
CATEGORIES:Religion, Spiritual
END:VEVENT
BEGIN:VEVENT
DTSTART;TZID=America/New_York:20260301T154500
DTEND;TZID=America/New_York:20260301T164500
DTSTAMP:20260419T202322
CREATED:20260207T080751Z
LAST-MODIFIED:20260211T104757Z
UID:10023171-1772379900-1772383500@peaksisland.info
SUMMARY:Acoustic Music Circle
DESCRIPTION:Music Gathering \nSunday\, New Brackett Church\, 3:45pm. \nBring a song to play with others or a song to perform\, all levels welcome\, as are all instruments. Primarily acoustic\, though we do sometimes gently amplify bass.\nBring a song\, bring a friend\, BYOB. Spectators are welcome. Any questions\, contact O.B. O’Brien at 766-5555.
URL:https://peaksisland.info/event/acoustic-music-circle-3/2026-03-01/
LOCATION:New Brackett Church\, 3 Church Ave\, Peaks Island\, ME\, 04108\, United States
CATEGORIES:Music/Dance/Theater
END:VEVENT
BEGIN:VEVENT
DTSTART;TZID=America/New_York:20260302T100000
DTEND;TZID=America/New_York:20260302T110000
DTSTAMP:20260419T202322
CREATED:20251117T143654Z
LAST-MODIFIED:20251117T143655Z
UID:10010906-1772445600-1772449200@peaksisland.info
SUMMARY:Defend Democracy Messaging Project
DESCRIPTION:Speak Up for Democracy:\nJoin your neighbors to write your Representatives\n10 am @ Community Center
URL:https://peaksisland.info/event/defend-democracy-messaging-project-2/2026-03-02/
LOCATION:Peaks Island Community Center\, 129 Island SAvenue\, Peaks Island\, ME\, 04108
CATEGORIES:Community
ORGANIZER;CN="Ann Coughlan":MAILTO:annefcoughlin@gmail.com
END:VEVENT
BEGIN:VEVENT
DTSTART;TZID=America/New_York:20260302T130000
DTEND;TZID=America/New_York:20260302T140000
DTSTAMP:20260419T202322
CREATED:20241204T150803Z
LAST-MODIFIED:20241204T150804Z
UID:10009877-1772456400-1772460000@peaksisland.info
SUMMARY:Al-anon Meeting @ New Brackett
DESCRIPTION:all welcome
URL:https://peaksisland.info/event/al-anon-meeting-new-brackett-church-2/2026-03-02/
LOCATION:New Brackett Church\, 3 Church Ave\, Peaks Island\, ME\, 04108\, United States
CATEGORIES:Health
END:VEVENT
BEGIN:VEVENT
DTSTART;TZID=America/New_York:20260302T153000
DTEND;TZID=America/New_York:20260302T170000
DTSTAMP:20260419T202322
CREATED:20250624T204814Z
LAST-MODIFIED:20250815T105319Z
UID:10011915-1772465400-1772470800@peaksisland.info
SUMMARY:Food Pantry at New Brackett Church
DESCRIPTION:Food Pantry’s mission is to provide food assistance to island neighbors.\nIf you have questions or would like to make a donation\, contact Libra at 207-838-0337. \n 
URL:https://peaksisland.info/event/food-pantry-at-new-brackett-church/2026-03-02/
LOCATION:New Brackett Church\, 3 Church Ave\, Peaks Island\, ME\, 04108\, United States
CATEGORIES:Community,Food, Fests, Cooking, Bakes,Seniors
END:VEVENT
BEGIN:VEVENT
DTSTART;TZID=America/New_York:20260303T154500
DTEND;TZID=America/New_York:20260303T170000
DTSTAMP:20260419T202322
CREATED:20260301T141833Z
LAST-MODIFIED:20260301T141833Z
UID:10023488-1772552700-1772557200@peaksisland.info
SUMMARY:Fundamentals of Ballet Technique w/Caitlin Osborne
DESCRIPTION:For more info or to register:   http://caitlinosbornedance@gmail.com <caitlinosbornedance@gmail.com>
URL:https://peaksisland.info/event/fundamentals-of-ballet-technique-w-caitlin-osborne/
LOCATION:New Brackett Church\, 3 Church Ave\, Peaks Island\, ME\, 04108\, United States
CATEGORIES:Music/Dance/Theater,Sports and Exercise
END:VEVENT
BEGIN:VEVENT
DTSTART;TZID=America/New_York:20260303T160000
DTEND;TZID=America/New_York:20260303T170000
DTSTAMP:20260419T202322
CREATED:20251102T164717Z
LAST-MODIFIED:20251102T164717Z
UID:10019112-1772553600-1772557200@peaksisland.info
SUMMARY:Knitting Group at PI Library
DESCRIPTION:Knitting Group @ Peaks \nFirst Tuesday of each month  \nBring your current project and join other knitters for conversation and inspiration! \nAll are welcome\, as are all skill levels. \nMeets in the library the first Tuesday of the month 4 pm – 5 pm.
URL:https://peaksisland.info/event/knitting-group-at-pi-library/2026-03-03/
LOCATION:Peaks Island Community Center\, 129 Island SAvenue\, Peaks Island\, ME\, 04108
CATEGORIES:Art, Art Lessons, Creative Writing
ORGANIZER;CN="Peaks Island Library":MAILTO:peaks@portlandpubliclibrary.org
END:VEVENT
BEGIN:VEVENT
DTSTART;TZID=America/New_York:20260305T180000
DTEND;TZID=America/New_York:20260305T190000
DTSTAMP:20260419T202322
CREATED:20260131T065242Z
LAST-MODIFIED:20260131T065242Z
UID:10022869-1772733600-1772737200@peaksisland.info
SUMMARY:Island Drumming Circle
DESCRIPTION:all welcome \nAt Fay Garman House in July
URL:https://peaksisland.info/event/island-drumming-circle-new-brackett-2/2026-03-05/
LOCATION:Fay Garman House\, 89 Central Avenue\, Peaks Island\, ME\, 04108-1020
CATEGORIES:Music/Dance/Theater
END:VEVENT
BEGIN:VEVENT
DTSTART;TZID=America/New_York:20260305T180000
DTEND;TZID=America/New_York:20260305T200000
DTSTAMP:20260419T202322
CREATED:20260301T142141Z
LAST-MODIFIED:20260301T142141Z
UID:10023489-1772733600-1772740800@peaksisland.info
SUMMARY:Legion Live
DESCRIPTION:
URL:https://peaksisland.info/event/legion-live/
LOCATION:American Legion-McVane Post\, Welch Street\, Peaks Island\, ME\, 04108\, United States
CATEGORIES:Music/Dance/Theater
ORGANIZER;CN="Amercian Legion Post":MAILTO:legionpost142@gmail.com
END:VEVENT
BEGIN:VEVENT
DTSTART;TZID=America/New_York:20260306T100000
DTEND;TZID=America/New_York:20260328T160000
DTSTAMP:20260419T202322
CREATED:20260307T155242Z
LAST-MODIFIED:20260307T155243Z
UID:10023493-1772791200-1774713600@peaksisland.info
SUMMARY:PIES Art Show thru 3/28
DESCRIPTION:
URL:https://peaksisland.info/event/pies-art-show-thru-3-28/
LOCATION:Peaks Island Library\, Temporary home at Peaks Island Elementary School (rear entrance)\, Peaks Island\, 04108\, United States
CATEGORIES:Art, Art Lessons, Creative Writing,Children
END:VEVENT
BEGIN:VEVENT
DTSTART;TZID=America/New_York:20260306T130000
DTEND;TZID=America/New_York:20260306T140000
DTSTAMP:20260419T202322
CREATED:20260220T220053Z
LAST-MODIFIED:20260301T143121Z
UID:10023470-1772802000-1772805600@peaksisland.info
SUMMARY:Jim Lausier Gardening Talk
DESCRIPTION:
URL:https://peaksisland.info/event/jim-lausier-gardening-talk/
LOCATION:Peaks Island Community Center\, 129 Island SAvenue\, Peaks Island\, ME\, 04108
CATEGORIES:Community
END:VEVENT
BEGIN:VEVENT
DTSTART;TZID=America/New_York:20260307T103000
DTEND;TZID=America/New_York:20260307T130000
DTSTAMP:20260419T202322
CREATED:20260307T155608Z
LAST-MODIFIED:20260307T155608Z
UID:10023494-1772879400-1772888400@peaksisland.info
SUMMARY:Beginner Sewing Workshop  grades 4-12
DESCRIPTION:SIgn up link not correct\, contact \n\nEmail: recreation@portlandmaine.gov\nPhone: (207) 808-5400
URL:https://peaksisland.info/event/beginner-sewing-workshop-grades-4-12/
LOCATION:Peaks Island Community Center\, 129 Island SAvenue\, Peaks Island\, ME\, 04108
CATEGORIES:Art, Art Lessons, Creative Writing,Children
ORGANIZER;CN="Portland Parks%2C Recreation and Facilities":MAILTO:dianer@portlandmaine.gov
END:VEVENT
BEGIN:VEVENT
DTSTART;TZID=America/New_York:20260310T190000
DTEND;TZID=America/New_York:20260310T200000
DTSTAMP:20260419T202322
CREATED:20251102T164944Z
LAST-MODIFIED:20251102T164944Z
UID:10019172-1773169200-1773172800@peaksisland.info
SUMMARY:Book Group
DESCRIPTION:Book Group @ Peaks Second Tuesday of the Month  \nThe Tuesday Adult Book Discussion Group \nTime: 7:00 – 8:00 pm \nJoin us on Tuesday\, November 11 to discuss The Women by Kristin Hannah. \n\nLocation: Peaks Island Community Room \nThis program is supported by Friends of the Peaks Island Library\nAll are welcome to join the book group. Titles are chosen in advance by the members who rotate leading the discussion. Meetings are fun and mind-broadening. Contact the Peaks Island Branch Library for help in procuring these titles. \nDec. 9 An Unfinished Love Story by Doris Kearns Goodwin \nJan. 13 White Heron by Sarah Oren Jewett \nFeb. 10 North Woods by Daniel Mason \nMar. 10 Foster by Claire Keegan \nApr. 14 The One-in-a-Million Boy by Monica Wood \nMay 12 Running with Sherman by Christopher McDougall \nJun. 16 Berry Pickers by Amanda Peters
URL:https://peaksisland.info/event/book-group/2026-03-10/
LOCATION:ME
CATEGORIES:Book Club
END:VEVENT
BEGIN:VEVENT
DTSTART;TZID=America/New_York:20260312T180000
DTEND;TZID=America/New_York:20260312T200000
DTSTAMP:20260419T202322
CREATED:20260314T143121Z
LAST-MODIFIED:20260314T143154Z
UID:10023534-1773338400-1773345600@peaksisland.info
SUMMARY:Music at the Legion
DESCRIPTION:
URL:https://peaksisland.info/event/music-at-the-legion/
LOCATION:American Legion-McVane Post\, Welch Street\, Peaks Island\, ME\, 04108\, United States
CATEGORIES:Music/Dance/Theater
END:VEVENT
BEGIN:VEVENT
DTSTART;TZID=America/New_York:20260313T153000
DTEND;TZID=America/New_York:20260313T170000
DTSTAMP:20260419T202322
CREATED:20251107T151847Z
LAST-MODIFIED:20260413T204147Z
UID:10021448-1773415800-1773421200@peaksisland.info
SUMMARY:Long Winter's Night Concert Series
DESCRIPTION:
URL:https://peaksisland.info/event/long-winters-night-concert-series/2026-03-13/
LOCATION:New Brackett Church\, 3 Church Ave\, Peaks Island\, ME\, 04108\, United States
CATEGORIES:Music/Dance/Theater
END:VEVENT
BEGIN:VEVENT
DTSTART;TZID=America/New_York:20260314T190000
DTEND;TZID=America/New_York:20260314T210000
DTSTAMP:20260419T202322
CREATED:20260314T142859Z
LAST-MODIFIED:20260314T142939Z
UID:10023533-1773514800-1773522000@peaksisland.info
SUMMARY:St Patrick's Day Concert
DESCRIPTION:Hailing from Japan\, O’Jizo specializes in Irish traditional music\, and combines the musical talents of Kozo Toyota on flute\, guitarist Koji Nagao\, and Hirofumi Nakamura on bouzouki and accordion. Their band name comes from blending syllables of each player’s name (hirO\, koJI\, koZO). And their music is a blend of old and new Irish tunes\, learned from years of study and travel to Ireland\, the U.S.\, and Canada. They play expertly with a variety of moods\, pacing\, and use of musical space. For their March 2025 East Coast tour they will collaborate with Boston duo Matt & Shannon Heaton. The Heatons are integral figures in Boston’s Irish traditional music scene\, performing extensively\, teaching\, and welcoming players of all levels in sessions and other community events. With Shannon on flute and vocals\, and Matt’s rhythmic\, nuanced guitar and bouzouki playing\, the duo is known for their engaging\, dynamic stage presence. They have collaborated with members of O’Jizo for over a decade.
URL:https://peaksisland.info/event/st-patricks-day-concert/
LOCATION:New Brackett Church\, 3 Church Ave\, Peaks Island\, ME\, 04108\, United States
CATEGORIES:Music/Dance/Theater
END:VEVENT
BEGIN:VEVENT
DTSTART;TZID=America/New_York:20260315T170000
DTEND;TZID=America/New_York:20260315T183000
DTSTAMP:20260419T202322
CREATED:20250918T150140Z
LAST-MODIFIED:20250918T150140Z
UID:10017868-1773594000-1773599400@peaksisland.info
SUMMARY:PITEA Dinner
DESCRIPTION:Feeling Lucky \nYour donation supports Energy and Tax relief for Fellow Islanders
URL:https://peaksisland.info/event/pitea-dinner-6/
LOCATION:New Brackett Church\, 3 Church Ave\, Peaks Island\, ME\, 04108\, United States
CATEGORIES:Community,Food, Fests, Cooking, Bakes
END:VEVENT
BEGIN:VEVENT
DTSTART;TZID=America/New_York:20260316T180000
DTEND;TZID=America/New_York:20260316T200000
DTSTAMP:20260419T202322
CREATED:20260318T115805Z
LAST-MODIFIED:20260318T115805Z
UID:10023543-1773684000-1773691200@peaksisland.info
SUMMARY:Peaks Island CERT
DESCRIPTION:All are welcome: The next Peaks CERT (Community Emergency Response Team) open meeting will be Monday (3/16) at the Community Center at 6 pm. The topic is wildfire prevention on the island. This Portland Fire Department presentation will be given by a wildfire prevention expert from the city. ANYONE MAY ATTEND!
URL:https://peaksisland.info/event/peaks-island-cert/
LOCATION:Peaks Island Community Center\, 129 Island SAvenue\, Peaks Island\, ME\, 04108
CATEGORIES:Community,Environmental
END:VEVENT
BEGIN:VEVENT
DTSTART;TZID=America/New_York:20260318T110000
DTEND;TZID=America/New_York:20260318T130000
DTSTAMP:20260419T202322
CREATED:20260314T142615Z
LAST-MODIFIED:20260314T142615Z
UID:10023532-1773831600-1773838800@peaksisland.info
SUMMARY:Senior Ladies Lunch
DESCRIPTION:
URL:https://peaksisland.info/event/senior-ladies-lunch/
LOCATION:New Brackett Church\, 3 Church Ave\, Peaks Island\, ME\, 04108\, United States
CATEGORIES:Community,Food, Fests, Cooking, Bakes
END:VEVENT
BEGIN:VEVENT
DTSTART;TZID=America/New_York:20260318T181500
DTEND;TZID=America/New_York:20260318T191500
DTSTAMP:20260419T202322
CREATED:20251214T200024Z
LAST-MODIFIED:20251214T200024Z
UID:10021486-1773857700-1773861300@peaksisland.info
SUMMARY:Peaks Island Council Meeting @ Community Center
DESCRIPTION:PI Council: 4th Wed of every month \nFMI:  https://linktr.ee/peaksislandcouncil
URL:https://peaksisland.info/event/peaks-island-council-meeting-community-center-2/2026-03-18/
LOCATION:Peaks Island Community Center\, 129 Island SAvenue\, Peaks Island\, ME\, 04108
CATEGORIES:Community,Peaks Island Council
END:VEVENT
BEGIN:VEVENT
DTSTART;TZID=America/New_York:20260318T190000
DTEND;TZID=America/New_York:20260318T200000
DTSTAMP:20260419T202322
CREATED:20260314T142411Z
LAST-MODIFIED:20260314T142411Z
UID:10023531-1773860400-1773864000@peaksisland.info
SUMMARY:Apogee Adventures Open House
DESCRIPTION:For those who don’t know me\, my name is Lucia. I grew up on Peaks Island and now live in Portland\, where I work for an adventure-based summer camp called Apogee Adventures. Apogee runs hiking\, biking\, and community service trips across the U.S.\, the Caribbean\, and Europe for students ages 11–18. I was an Apogee student myself and later led trips throughout college\, the experience of an Apogee summer is one that truly changed my life! I’ll be hosting an informational session on Peaks Island on March 18th from 7–8 PM\, and I’d love to see you there. The information session will be held at my house\, 30 Central Ave. If you’re curious about Apogee or know a family with kids who might enjoy an adventure-filled summer\, please stop by and spread the word! Several island kids have participated over the years\, and we’d be thrilled to welcome even more.
URL:https://peaksisland.info/event/apogee-adventures-open-house/
LOCATION:Lucia Daranyi\,  30 Central Ave\, 30 Central Ave\, Peaks Island\, ME\, 04108\, United States
CATEGORIES:Children
END:VEVENT
BEGIN:VEVENT
DTSTART;TZID=America/New_York:20260319T082000
DTEND;TZID=America/New_York:20260319T090000
DTSTAMP:20260419T202322
CREATED:20260314T143641Z
LAST-MODIFIED:20260314T143641Z
UID:10023535-1773908400-1773910800@peaksisland.info
SUMMARY:PIES Morning Sing
DESCRIPTION:
URL:https://peaksisland.info/event/pies-morning-sing-2/
LOCATION:Peaks Island Elementary School\, 4 Church Avenue\, Peaks Island\, ME\, 04108\, United States
CATEGORIES:Children,Music/Dance/Theater
END:VEVENT
END:VCALENDAR