BEGIN:VCALENDAR
VERSION:2.0
PRODID:-//Peaks Island - ECPv6.15.17//NONSGML v1.0//EN
CALSCALE:GREGORIAN
METHOD:PUBLISH
X-ORIGINAL-URL:https://peaksisland.info
X-WR-CALDESC:Events for Peaks Island
REFRESH-INTERVAL;VALUE=DURATION:PT1H
X-Robots-Tag:noindex
X-PUBLISHED-TTL:PT1H
BEGIN:VTIMEZONE
TZID:America/New_York
BEGIN:DAYLIGHT
TZOFFSETFROM:-0500
TZOFFSETTO:-0400
TZNAME:EDT
DTSTART:20250309T070000
END:DAYLIGHT
BEGIN:STANDARD
TZOFFSETFROM:-0400
TZOFFSETTO:-0500
TZNAME:EST
DTSTART:20251102T060000
END:STANDARD
BEGIN:DAYLIGHT
TZOFFSETFROM:-0500
TZOFFSETTO:-0400
TZNAME:EDT
DTSTART:20260308T070000
END:DAYLIGHT
BEGIN:STANDARD
TZOFFSETFROM:-0400
TZOFFSETTO:-0500
TZNAME:EST
DTSTART:20261101T060000
END:STANDARD
BEGIN:DAYLIGHT
TZOFFSETFROM:-0500
TZOFFSETTO:-0400
TZNAME:EDT
DTSTART:20270314T070000
END:DAYLIGHT
BEGIN:STANDARD
TZOFFSETFROM:-0400
TZOFFSETTO:-0500
TZNAME:EST
DTSTART:20271107T060000
END:STANDARD
END:VTIMEZONE
BEGIN:VEVENT
DTSTART;TZID=America/New_York:20260403T104500
DTEND;TZID=America/New_York:20260403T111500
DTSTAMP:20260423T220944
CREATED:20250626T113230Z
LAST-MODIFIED:20250815T110440Z
UID:10014616-1775213100-1775214900@peaksisland.info
SUMMARY:Pre School Story Time
DESCRIPTION:Preschool Storytime features more challenging stories\, songs\, movement\, and activities to help preschool-age children continue to develop their early literacy skills! Parents and caregivers can play and sing along while learning about new books\, songs\, fingerplays and stories from our librarians. \n\n\n\n\nDisclaimer(s)\n\n\n\n\nAll children are welcome to attend the PPL Storytime that best fits their schedule. Adults must be accompanied by a child. Caregivers should remain with their child during Storytime. We encourage caregivers to fully participate and enjoy the fun with their children!
URL:https://peaksisland.info/event/pre-school-story-time/2026-04-03/
LOCATION:Peaks Island Library\, Temporary home at Peaks Island Elementary School (rear entrance)\, Peaks Island\, 04108\, United States
CATEGORIES:Children
ORGANIZER;CN="Peaks Island Library":MAILTO:peaks@portlandpubliclibrary.org
END:VEVENT
BEGIN:VEVENT
DTSTART;TZID=America/New_York:20260403T151500
DTEND;TZID=America/New_York:20260403T170000
DTSTAMP:20260423T220944
CREATED:20260109T194339Z
LAST-MODIFIED:20260109T194339Z
UID:10022245-1775229300-1775235600@peaksisland.info
SUMMARY:Creative Writing Grades 3-5
DESCRIPTION:Creative Writing for Kids @ Peaks (Grades 3–5)Fridays afternoons\, 3:15 pm  \nCreative Writing for Kids (Grades 3–5) Friday afternoons at 3:15 pm. \nBring your imagination – journals\, pencils and snacks will be provided. \nQuestions contact the library 766-5540 or email us peaks@portlib.org
URL:https://peaksisland.info/event/creative-writing-grades-3-5/2026-04-03/
LOCATION:Peaks Island Library\, Temporary home at Peaks Island Elementary School (rear entrance)\, Peaks Island\, 04108\, United States
CATEGORIES:Art, Art Lessons, Creative Writing,Children
ORGANIZER;CN="Peaks Island Library":MAILTO:peaks@portlandpubliclibrary.org
END:VEVENT
BEGIN:VEVENT
DTSTART;TZID=America/New_York:20260404T090000
DTEND;TZID=America/New_York:20260404T094500
DTSTAMP:20260423T220944
CREATED:20251102T163234Z
LAST-MODIFIED:20251102T163234Z
UID:10018864-1775293200-1775295900@peaksisland.info
SUMMARY:Adult Writing
DESCRIPTION:Adult Writing Group @ Peaks \nSaturdays\, 9 am – 9:45 am  \nA writing group for adults every Saturday morning at the Peaks Island Branch Library.  This is a group for anyone who likes to write (or would like to start). All skill levels\, from beginner to experienced\, are welcome. Take inspiration from the weekly writing prompt or come with your own ideas and projects. \nSaturday mornings at 9 am – 9:45 am.
URL:https://peaksisland.info/event/adult-writing/2026-04-04/
LOCATION:Peaks Island Community Center\, 129 Island SAvenue\, Peaks Island\, ME\, 04108
CATEGORIES:Art, Art Lessons, Creative Writing
ORGANIZER;CN="Peaks Island Library":MAILTO:peaks@portlandpubliclibrary.org
END:VEVENT
BEGIN:VEVENT
DTSTART;TZID=America/New_York:20260404T100000
DTEND;TZID=America/New_York:20260404T170000
DTSTAMP:20260423T220944
CREATED:20260406T165318Z
LAST-MODIFIED:20260406T165444Z
UID:10023599-1775296800-1775322000@peaksisland.info
SUMMARY:Pysanky Easter Egg Workshop
DESCRIPTION:
URL:https://peaksisland.info/event/pysanky-easter-egg-workshop/
LOCATION:New Brackett Church\, 3 Church Ave\, Peaks Island\, ME\, 04108\, United States
CATEGORIES:Art, Art Lessons, Creative Writing,Children
END:VEVENT
BEGIN:VEVENT
DTSTART;TZID=America/New_York:20260404T140000
DTEND;TZID=America/New_York:20260404T160000
DTSTAMP:20260423T220944
CREATED:20260327T134515Z
LAST-MODIFIED:20260327T134559Z
UID:10023580-1775311200-1775318400@peaksisland.info
SUMMARY:Annual Kite Celebration!
DESCRIPTION:Chris and Maryann’s annual kite celebration!
URL:https://peaksisland.info/event/annual-kite-celebration/
LOCATION:Whaleback\, Backshore\, Peaks Island\, ME\, 04108\, United States
CATEGORIES:Community
END:VEVENT
BEGIN:VEVENT
DTSTART;TZID=America/New_York:20260404T170000
DTEND;TZID=America/New_York:20260404T180000
DTSTAMP:20260423T220944
CREATED:20250904T155039Z
LAST-MODIFIED:20250904T155039Z
UID:10017081-1775322000-1775325600@peaksisland.info
SUMMARY:Eucharist Service at New Brackett
DESCRIPTION:Eucharist service is now every Saturday at 5:00 pm at New Brackett
URL:https://peaksisland.info/event/eucharist-service-at-new-brackett/2026-04-04/
LOCATION:New Brackett Church\, 3 Church Ave\, Peaks Island\, ME\, 04108\, United States
CATEGORIES:Religion, Spiritual
END:VEVENT
BEGIN:VEVENT
DTSTART;TZID=America/New_York:20260404T170000
DTEND;TZID=America/New_York:20260404T210000
DTSTAMP:20260423T220944
CREATED:20260327T134809Z
LAST-MODIFIED:20260327T134847Z
UID:10023581-1775322000-1775336400@peaksisland.info
SUMMARY:Auxiliary Dinner at the Legion
DESCRIPTION:
URL:https://peaksisland.info/event/auxiliary-dinner-at-the-legion/
LOCATION:American Legion-McVane Post\, Welch Street\, Peaks Island\, ME\, 04108\, United States
CATEGORIES:Food, Fests, Cooking, Bakes
END:VEVENT
BEGIN:VEVENT
DTSTART;TZID=America/New_York:20260405T060000
DTEND;TZID=America/New_York:20260405T120000
DTSTAMP:20260423T220944
CREATED:20260406T165807Z
LAST-MODIFIED:20260406T170052Z
UID:10023600-1775368800-1775390400@peaksisland.info
SUMMARY:Sunrise Easter Service
DESCRIPTION:Sunrise Service\n6:10 am @ Whaleback\nFollowed by breakfast at New Brackett Church\nService at 10 am & Easter Egg hunt 11:20 am
URL:https://peaksisland.info/event/sunrise-easter-service/
LOCATION:Whaleback\, Backshore\, Peaks Island\, ME\, 04108\, United States
CATEGORIES:Religion, Spiritual
END:VEVENT
BEGIN:VEVENT
DTSTART;TZID=America/New_York:20260405T083000
DTEND;TZID=America/New_York:20260405T100000
DTSTAMP:20260423T220944
CREATED:20250624T141712Z
LAST-MODIFIED:20250630T111218Z
UID:10015865-1775377800-1775383200@peaksisland.info
SUMMARY:Mass at St. Christopher's Church
DESCRIPTION:
URL:https://peaksisland.info/event/mass-at-st-christophers-church/2026-04-05/
LOCATION:St. Christopher’s Church\, 15 Central Avenue\, Peaks Island\, ME\, 04108\, United States
CATEGORIES:Religion, Spiritual
END:VEVENT
BEGIN:VEVENT
DTSTART;TZID=America/New_York:20260405T100000
DTEND;TZID=America/New_York:20260405T100000
DTSTAMP:20260423T220944
CREATED:20250624T141840Z
LAST-MODIFIED:20250630T104107Z
UID:10011397-1775383200-1775383200@peaksisland.info
SUMMARY:Worship at New Brackett Church
DESCRIPTION:
URL:https://peaksisland.info/event/worship-at-new-brackett-church/2026-04-05/
LOCATION:New Brackett Church\, 3 Church Ave\, Peaks Island\, ME\, 04108\, United States
CATEGORIES:Religion, Spiritual
END:VEVENT
BEGIN:VEVENT
DTSTART;TZID=America/New_York:20260405T154500
DTEND;TZID=America/New_York:20260405T164500
DTSTAMP:20260423T220944
CREATED:20260207T080751Z
LAST-MODIFIED:20260211T104757Z
UID:10023176-1775403900-1775407500@peaksisland.info
SUMMARY:Acoustic Music Circle
DESCRIPTION:Music Gathering \nSunday\, New Brackett Church\, 3:45pm. \nBring a song to play with others or a song to perform\, all levels welcome\, as are all instruments. Primarily acoustic\, though we do sometimes gently amplify bass.\nBring a song\, bring a friend\, BYOB. Spectators are welcome. Any questions\, contact O.B. O’Brien at 766-5555.
URL:https://peaksisland.info/event/acoustic-music-circle-3/2026-04-05/
LOCATION:New Brackett Church\, 3 Church Ave\, Peaks Island\, ME\, 04108\, United States
CATEGORIES:Music/Dance/Theater
END:VEVENT
BEGIN:VEVENT
DTSTART;TZID=America/New_York:20260406T100000
DTEND;TZID=America/New_York:20260406T110000
DTSTAMP:20260423T220944
CREATED:20251117T143654Z
LAST-MODIFIED:20251117T143655Z
UID:10010911-1775469600-1775473200@peaksisland.info
SUMMARY:Defend Democracy Messaging Project
DESCRIPTION:Speak Up for Democracy:\nJoin your neighbors to write your Representatives\n10 am @ Community Center
URL:https://peaksisland.info/event/defend-democracy-messaging-project-2/2026-04-06/
LOCATION:Peaks Island Community Center\, 129 Island SAvenue\, Peaks Island\, ME\, 04108
CATEGORIES:Community
ORGANIZER;CN="Ann Coughlan":MAILTO:annefcoughlin@gmail.com
END:VEVENT
BEGIN:VEVENT
DTSTART;TZID=America/New_York:20260406T130000
DTEND;TZID=America/New_York:20260406T140000
DTSTAMP:20260423T220944
CREATED:20241204T150803Z
LAST-MODIFIED:20241204T150804Z
UID:10009882-1775480400-1775484000@peaksisland.info
SUMMARY:Al-anon Meeting @ New Brackett
DESCRIPTION:all welcome
URL:https://peaksisland.info/event/al-anon-meeting-new-brackett-church-2/2026-04-06/
LOCATION:New Brackett Church\, 3 Church Ave\, Peaks Island\, ME\, 04108\, United States
CATEGORIES:Health
END:VEVENT
BEGIN:VEVENT
DTSTART;TZID=America/New_York:20260406T153000
DTEND;TZID=America/New_York:20260406T170000
DTSTAMP:20260423T220944
CREATED:20250624T204814Z
LAST-MODIFIED:20250815T105319Z
UID:10011920-1775489400-1775494800@peaksisland.info
SUMMARY:Food Pantry at New Brackett Church
DESCRIPTION:Food Pantry’s mission is to provide food assistance to island neighbors.\nIf you have questions or would like to make a donation\, contact Libra at 207-838-0337. \n 
URL:https://peaksisland.info/event/food-pantry-at-new-brackett-church/2026-04-06/
LOCATION:New Brackett Church\, 3 Church Ave\, Peaks Island\, ME\, 04108\, United States
CATEGORIES:Community,Food, Fests, Cooking, Bakes,Seniors
END:VEVENT
BEGIN:VEVENT
DTSTART;TZID=America/New_York:20260407T160000
DTEND;TZID=America/New_York:20260407T170000
DTSTAMP:20260423T220944
CREATED:20251102T164717Z
LAST-MODIFIED:20251102T164717Z
UID:10019113-1775577600-1775581200@peaksisland.info
SUMMARY:Knitting Group at PI Library
DESCRIPTION:Knitting Group @ Peaks \nFirst Tuesday of each month  \nBring your current project and join other knitters for conversation and inspiration! \nAll are welcome\, as are all skill levels. \nMeets in the library the first Tuesday of the month 4 pm – 5 pm.
URL:https://peaksisland.info/event/knitting-group-at-pi-library/2026-04-07/
LOCATION:Peaks Island Community Center\, 129 Island SAvenue\, Peaks Island\, ME\, 04108
CATEGORIES:Art, Art Lessons, Creative Writing
ORGANIZER;CN="Peaks Island Library":MAILTO:peaks@portlandpubliclibrary.org
END:VEVENT
BEGIN:VEVENT
DTSTART;TZID=America/New_York:20260407T183000
DTEND;TZID=America/New_York:20260407T200000
DTSTAMP:20260423T220944
CREATED:20251003T153801Z
LAST-MODIFIED:20251003T153802Z
UID:10017353-1775586600-1775592000@peaksisland.info
SUMMARY:Cook Club at New Brackett Church
DESCRIPTION:Join in the fun of weekly Cook Club\, led by Pi Crosby and gathering at New Brackett Church. The main ingredient changes weekly. \nPlease contact Pi Crosby at pi.napple5407@gmail.com for more information!
URL:https://peaksisland.info/event/cook-club-at-new-brackett-church-2-2/2026-04-07/
LOCATION:New Brackett Church\, 3 Church Ave\, Peaks Island\, ME\, 04108\, United States
CATEGORIES:Food, Fests, Cooking, Bakes
END:VEVENT
BEGIN:VEVENT
DTSTART;TZID=America/New_York:20260408T130000
DTEND;TZID=America/New_York:20260408T150000
DTSTAMP:20260423T220944
CREATED:20260406T170216Z
LAST-MODIFIED:20260406T170302Z
UID:10023601-1775653200-1775660400@peaksisland.info
SUMMARY:Peaks Island Historical Society Monthly Meeting
DESCRIPTION:
URL:https://peaksisland.info/event/peaks-island-historical-society-monthly-meeting-4/
LOCATION:Peaks Island Community Center\, 129 Island SAvenue\, Peaks Island\, ME\, 04108
CATEGORIES:History
ORGANIZER;CN="Peaks Island Historical Society":MAILTO:peakshistory@gmail.com
END:VEVENT
BEGIN:VEVENT
DTSTART;TZID=America/New_York:20260409T082000
DTEND;TZID=America/New_York:20260409T090000
DTSTAMP:20260423T220944
CREATED:20260406T171024Z
LAST-MODIFIED:20260406T171024Z
UID:10023603-1775722800-1775725200@peaksisland.info
SUMMARY:PIES Morning Sing
DESCRIPTION:
URL:https://peaksisland.info/event/pies-morning-sing-5/
LOCATION:Peaks Island Elementary School\, 4 Church Avenue\, Peaks Island\, ME\, 04108\, United States
CATEGORIES:Children,Music/Dance/Theater
END:VEVENT
BEGIN:VEVENT
DTSTART;TZID=America/New_York:20260409T180000
DTEND;TZID=America/New_York:20260409T200000
DTSTAMP:20260423T220944
CREATED:20260406T171219Z
LAST-MODIFIED:20260406T171318Z
UID:10023604-1775757600-1775764800@peaksisland.info
SUMMARY:Legion Live - Bluebus Revival
DESCRIPTION:
URL:https://peaksisland.info/event/legion-live-bluebus-revival/
LOCATION:American Legion-McVane Post\, Welch Street\, Peaks Island\, ME\, 04108\, United States
CATEGORIES:Music/Dance/Theater
ORGANIZER;CN="Amercian Legion Post":MAILTO:legionpost142@gmail.com
END:VEVENT
BEGIN:VEVENT
DTSTART;TZID=America/New_York:20260409T180000
DTEND;TZID=America/New_York:20260409T210000
DTSTAMP:20260423T220944
CREATED:20260406T170659Z
LAST-MODIFIED:20260406T170830Z
UID:10023602-1775757600-1775768400@peaksisland.info
SUMMARY:Vino and Van Gogh Fundraiser PICW
DESCRIPTION:RSVP: bhoppin@aol.com
URL:https://peaksisland.info/event/vino-and-van-gogh-fundraiser-picw/
LOCATION:Hoppin Studio\, 196 Seashore Avenue\, Peaks Island\, ME\, 04108\, United States
CATEGORIES:Art, Art Lessons, Creative Writing,Community
END:VEVENT
BEGIN:VEVENT
DTSTART;TZID=America/New_York:20260410T150000
DTEND;TZID=America/New_York:20260410T170000
DTSTAMP:20260423T220944
CREATED:20251107T151847Z
LAST-MODIFIED:20260413T204147Z
UID:10021449-1775833200-1775840400@peaksisland.info
SUMMARY:Long Winter's Night Concert Series
DESCRIPTION:
URL:https://peaksisland.info/event/long-winters-night-concert-series/2026-04-10/
LOCATION:New Brackett Church\, 3 Church Ave\, Peaks Island\, ME\, 04108\, United States
CATEGORIES:Music/Dance/Theater
END:VEVENT
BEGIN:VEVENT
DTSTART;TZID=America/New_York:20260412T170000
DTEND;TZID=America/New_York:20260412T183000
DTSTAMP:20260423T220945
CREATED:20250918T150303Z
LAST-MODIFIED:20250918T150303Z
UID:10017869-1776013200-1776018600@peaksisland.info
SUMMARY:PITEA Dinner
DESCRIPTION:Feast of Salads \nYour donation supports Energy and Tax relief for Fellow Islanders
URL:https://peaksisland.info/event/pitea-dinner-7/
LOCATION:New Brackett Church\, 3 Church Ave\, Peaks Island\, ME\, 04108\, United States
CATEGORIES:Community,Food, Fests, Cooking, Bakes
END:VEVENT
BEGIN:VEVENT
DTSTART;TZID=America/New_York:20260414T190000
DTEND;TZID=America/New_York:20260414T200000
DTSTAMP:20260423T220945
CREATED:20251102T164944Z
LAST-MODIFIED:20251102T164944Z
UID:10019173-1776193200-1776196800@peaksisland.info
SUMMARY:Book Group
DESCRIPTION:Book Group @ Peaks Second Tuesday of the Month  \nThe Tuesday Adult Book Discussion Group \nTime: 7:00 – 8:00 pm \nJoin us on Tuesday\, November 11 to discuss The Women by Kristin Hannah. \n\nLocation: Peaks Island Community Room \nThis program is supported by Friends of the Peaks Island Library\nAll are welcome to join the book group. Titles are chosen in advance by the members who rotate leading the discussion. Meetings are fun and mind-broadening. Contact the Peaks Island Branch Library for help in procuring these titles. \nDec. 9 An Unfinished Love Story by Doris Kearns Goodwin \nJan. 13 White Heron by Sarah Oren Jewett \nFeb. 10 North Woods by Daniel Mason \nMar. 10 Foster by Claire Keegan \nApr. 14 The One-in-a-Million Boy by Monica Wood \nMay 12 Running with Sherman by Christopher McDougall \nJun. 16 Berry Pickers by Amanda Peters
URL:https://peaksisland.info/event/book-group/2026-04-14/
LOCATION:ME
CATEGORIES:Book Club
END:VEVENT
BEGIN:VEVENT
DTSTART;TZID=America/New_York:20260415T181500
DTEND;TZID=America/New_York:20260415T191500
DTSTAMP:20260423T220945
CREATED:20251214T200024Z
LAST-MODIFIED:20251214T200024Z
UID:10021487-1776276900-1776280500@peaksisland.info
SUMMARY:Peaks Island Council Meeting @ Community Center
DESCRIPTION:PI Council: 4th Wed of every month \nFMI:  https://linktr.ee/peaksislandcouncil
URL:https://peaksisland.info/event/peaks-island-council-meeting-community-center-2/2026-04-15/
LOCATION:Peaks Island Community Center\, 129 Island SAvenue\, Peaks Island\, ME\, 04108
CATEGORIES:Community,Peaks Island Council
END:VEVENT
BEGIN:VEVENT
DTSTART;TZID=America/New_York:20260416T110000
DTEND;TZID=America/New_York:20260416T130000
DTSTAMP:20260423T220945
CREATED:20260413T203006Z
LAST-MODIFIED:20260413T203047Z
UID:10023645-1776337200-1776344400@peaksisland.info
SUMMARY:Coffee and Craft
DESCRIPTION:
URL:https://peaksisland.info/event/coffee-and-craft/
LOCATION:Peaks Island Community Center\, 129 Island SAvenue\, Peaks Island\, ME\, 04108
CATEGORIES:Art, Art Lessons, Creative Writing
END:VEVENT
BEGIN:VEVENT
DTSTART;TZID=America/New_York:20260416T173000
DTEND;TZID=America/New_York:20260416T190000
DTSTAMP:20260423T220945
CREATED:20260413T203211Z
LAST-MODIFIED:20260413T203748Z
UID:10023646-1776360600-1776366000@peaksisland.info
SUMMARY:STEAM Family Night
DESCRIPTION:
URL:https://peaksisland.info/event/steam-family-night/
LOCATION:Peaks Island Elementary School\, 4 Church Avenue\, Peaks Island\, ME\, 04108\, United States
CATEGORIES:Children
END:VEVENT
BEGIN:VEVENT
DTSTART;TZID=America/New_York:20260416T180000
DTEND;TZID=America/New_York:20260416T200000
DTSTAMP:20260423T220945
CREATED:20260413T203906Z
LAST-MODIFIED:20260413T203906Z
UID:10023658-1776362400-1776369600@peaksisland.info
SUMMARY:Scottish Night with Keith Stockless at the Legion
DESCRIPTION:
URL:https://peaksisland.info/event/scottish-night-with-keith-stockless-at-the-legion/
LOCATION:ME
CATEGORIES:Music/Dance/Theater
END:VEVENT
BEGIN:VEVENT
DTSTART;TZID=America/New_York:20260421T080000
DTEND;TZID=America/New_York:20260421T170000
DTSTAMP:20260423T220945
CREATED:20260413T204648Z
LAST-MODIFIED:20260413T204648Z
UID:10023661-1776758400-1776790800@peaksisland.info
SUMMARY:Peaks Island Vacation Camp
DESCRIPTION:Peaks Island April Vacation Camp \nWe are excited to provide a fun\, nurturing environment for Peaks Island kids during their April break this year! \nPlease note this camp will start on Tuesday 4/21 due to the Monday holiday. There is an option to register for all 4 days of camp or select 2 days of camp; please choose the appropriate camp schedule and age group for your child from the registration options below. \n\nGrades\nPre-K through 5th\n\nDates\nTuesday 4/21/26 – Friday 4/24/26 \nLocation\nPeaks Island Community Center \nHours & Tuition\n8:00am – 5:00pm\n$250 per child for 4 days of camp\n$125 per child for 2 days of camp \n\nWhat to Expect Each Day\n– Nature-based adventures at different locations around the island\, including the school playground\, the ball field\, the woods\, and beaches\n– Reading and games at the library\n– Themed craft activities\n– Dedicated time for snacks and lunch\n– Choice time + free play time \nHow to Prepare for Each Day\nEach participant should arrive to camp with the following:\n– A full water bottle\n– A packed lunch plus two snacks\n– Appropriate outerwear\, including gear for wet\, muddy\, rainy\, or snowy weather\n– A separate pair of shoes for wearing indoors (sneakers\, slippers\, or Crocs are okay)\n– A clean change of clothes\, including socks and underwear \nSome additional snacks will be provided but all children should come prepared with at least two snacks that are separate from their lunch.\nImportant Notes\nRegistration\nPlease register your child below in the correct age group. Camp participants will be together throughout the week but some activities will be planned by age group. Please also note you can select 4 days of camp or 2 days of camp for your child. \nWe need 8 children to register for each day by Friday\, April 10\, in order for this program to run. \nOutstanding Balances\nParticipants with unpaid balances for past programs (including Before & After the Bell\, field trips\, vacation weeks\, or summer camps) are not eligible to register. Any registrations made with an unpaid balance will be automatically canceled.\n\nWithdrawals\nIf you withdraw before the first day\, a $25 withdrawal fee per child per day will be deducted from your refund. There will be no refunds once the program has started
URL:https://peaksisland.info/event/peaks-island-vacation-camp/2026-04-21/
LOCATION:ME
CATEGORIES:Children
END:VEVENT
BEGIN:VEVENT
DTSTART;TZID=America/New_York:20260423T170000
DTEND;TZID=America/New_York:20260423T190000
DTSTAMP:20260423T220945
CREATED:20260413T204312Z
LAST-MODIFIED:20260413T204410Z
UID:10023660-1776963600-1776970800@peaksisland.info
SUMMARY:Energy Project Kick Off
DESCRIPTION:
URL:https://peaksisland.info/event/energy-project-kick-off/
LOCATION:Peaks Island Community Center\, 129 Island SAvenue\, Peaks Island\, ME\, 04108
CATEGORIES:Environmental
END:VEVENT
BEGIN:VEVENT
DTSTART;TZID=America/New_York:20260425T100000
DTEND;TZID=America/New_York:20260425T120000
DTSTAMP:20260423T220945
CREATED:20260413T202643Z
LAST-MODIFIED:20260413T202643Z
UID:10023644-1777111200-1777118400@peaksisland.info
SUMMARY:The Great Portland Pick up
DESCRIPTION:7R#7R#kL6Fp8AutKUwm7R#kL6Fp8AutKUwm \nCOME JOIN THE GREAT PORTLAND PICK UP!\nThe Portland Parks Conservancy and the City of Portland are hosting a citywide cleanup event on Saturday\, April 25th\, from 10AM – 12PM.  \nThis event is happening rain or shine!\nJoin us in cleaning up our local parks and communities\, enjoy refreshments\, and be entered to win a raffle prize by attending and helping clean up trash & litter! \nCalling volunteers! Come join us for a fun morning of giving back and helping Portland shine! We’ll have all the supplies you need. \nJust bring comfy clothes\, closed-toe shoes\, and don’t forget water and sunscreen. Enjoy free coffee and snacks while you volunteer\, and when you fill out the waiver\, you’ll be entered for a chance to win a raffle prize 🎉 \n*No need to sign up to volunteer\, just show up at one of the following clean-up hub locations.
URL:https://peaksisland.info/event/the-great-portland-pick-up/
LOCATION:Peaks Island Community Center\, 129 Island SAvenue\, Peaks Island\, ME\, 04108
CATEGORIES:Environmental
ORGANIZER;CN="Portland Parks%2C Recreation and Facilities":MAILTO:dianer@portlandmaine.gov
END:VEVENT
END:VCALENDAR