BEGIN:VCALENDAR
VERSION:2.0
PRODID:-//Peaks Island - ECPv6.15.17//NONSGML v1.0//EN
CALSCALE:GREGORIAN
METHOD:PUBLISH
X-WR-CALNAME:Peaks Island
X-ORIGINAL-URL:https://peaksisland.info
X-WR-CALDESC:Events for Peaks Island
REFRESH-INTERVAL;VALUE=DURATION:PT1H
X-Robots-Tag:noindex
X-PUBLISHED-TTL:PT1H
BEGIN:VTIMEZONE
TZID:America/New_York
BEGIN:DAYLIGHT
TZOFFSETFROM:-0500
TZOFFSETTO:-0400
TZNAME:EDT
DTSTART:20240310T070000
END:DAYLIGHT
BEGIN:STANDARD
TZOFFSETFROM:-0400
TZOFFSETTO:-0500
TZNAME:EST
DTSTART:20241103T060000
END:STANDARD
BEGIN:DAYLIGHT
TZOFFSETFROM:-0500
TZOFFSETTO:-0400
TZNAME:EDT
DTSTART:20250309T070000
END:DAYLIGHT
BEGIN:STANDARD
TZOFFSETFROM:-0400
TZOFFSETTO:-0500
TZNAME:EST
DTSTART:20251102T060000
END:STANDARD
BEGIN:DAYLIGHT
TZOFFSETFROM:-0500
TZOFFSETTO:-0400
TZNAME:EDT
DTSTART:20260308T070000
END:DAYLIGHT
BEGIN:STANDARD
TZOFFSETFROM:-0400
TZOFFSETTO:-0500
TZNAME:EST
DTSTART:20261101T060000
END:STANDARD
BEGIN:DAYLIGHT
TZOFFSETFROM:-0500
TZOFFSETTO:-0400
TZNAME:EDT
DTSTART:20270314T070000
END:DAYLIGHT
BEGIN:STANDARD
TZOFFSETFROM:-0400
TZOFFSETTO:-0500
TZNAME:EST
DTSTART:20271107T060000
END:STANDARD
END:VTIMEZONE
BEGIN:VEVENT
DTSTART;TZID=America/New_York:20251120T180000
DTEND;TZID=America/New_York:20251120T200000
DTSTAMP:20260419T092407
CREATED:20251117T152453Z
LAST-MODIFIED:20251117T152453Z
UID:10021441-1763661600-1763668800@peaksisland.info
SUMMARY:Open Mike - Legion
DESCRIPTION:
URL:https://peaksisland.info/event/open-mike-legion/
LOCATION:American Legion-McVane Post\, Welch Street\, Peaks Island\, ME\, 04108\, United States
CATEGORIES:Music/Dance/Theater
ORGANIZER;CN="Amercian Legion Post":MAILTO:legionpost142@gmail.com
END:VEVENT
BEGIN:VEVENT
DTSTART;TZID=America/New_York:20251122T124500
DTEND;TZID=America/New_York:20251122T140000
DTSTAMP:20260419T092407
CREATED:20251122T132143Z
LAST-MODIFIED:20251122T132144Z
UID:10021458-1763815500-1763820000@peaksisland.info
SUMMARY:Volunteer Trash Clean Up
DESCRIPTION:contact Anne Couglin for info: annefcoughlin@gmail.com
URL:https://peaksisland.info/event/volunteer-trash-clean-up/
LOCATION:Down Front
CATEGORIES:Environmental
END:VEVENT
BEGIN:VEVENT
DTSTART;TZID=America/New_York:20251122T150000
DTEND;TZID=America/New_York:20251122T170000
DTSTAMP:20260419T092407
CREATED:20251107T151847Z
LAST-MODIFIED:20260413T204147Z
UID:10021058-1763823600-1763830800@peaksisland.info
SUMMARY:Long Winter's Night Concert Series
DESCRIPTION:
URL:https://peaksisland.info/event/long-winters-night-concert-series/2025-11-22/
LOCATION:New Brackett Church\, 3 Church Ave\, Peaks Island\, ME\, 04108\, United States
CATEGORIES:Music/Dance/Theater
END:VEVENT
BEGIN:VEVENT
DTSTART;TZID=America/New_York:20251122T150000
DTEND;TZID=America/New_York:20251122T170000
DTSTAMP:20260419T092407
CREATED:20251122T131751Z
LAST-MODIFIED:20251122T131751Z
UID:10021457-1763823600-1763830800@peaksisland.info
SUMMARY:CONTRADANCE!
DESCRIPTION:Join us on Saturday November 22nd 3-5pm New Brackett Church. \n Where we will gather\, and move\, and be with what is… while together we share deep gratitude for our community. In the tension between loss and abundance is where we live. In the present moment\, a willingness to share stories\, and music\, and movement and desserts. Owen Marshall and Liana Wolk will play the dance with Ellen Gawler\, a deeply rooted Maine tradition-bearer\, mother\, grandmother and teacher will lead us all. It’s free it’s fun and will help get us all through the darkness together. Bring the whole clan. Families welcomed and encouraged. Single folks\, old and young come and experience life. In the midst of what is hard\, real and true\, we have each other and for that we are profoundly grateful. Remember- if you can walk you can contradance. care to listen instead? Come on along. Bring something to share and be with us. It will help.
URL:https://peaksisland.info/event/contradance/
LOCATION:New Brackett Church\, 3 Church Ave\, Peaks Island\, ME\, 04108\, United States
CATEGORIES:Music/Dance/Theater
END:VEVENT
BEGIN:VEVENT
DTSTART;TZID=America/New_York:20251122T180000
DTEND;TZID=America/New_York:20251122T190000
DTSTAMP:20260419T092407
CREATED:20251106T154852Z
LAST-MODIFIED:20251106T154852Z
UID:10021050-1763834400-1763838000@peaksisland.info
SUMMARY:WOOD STACKING COMPETITION
DESCRIPTION:TO REGISTER CLICK HERE \nGet ready to stack with style! On the morning of Saturday\, November 22\, our esteemed panel of judges will visit each registered firewood site. Winners will be selected in the following categories: \n  \n\nMost Wood Quantity (measured in cubic feet\, converted to cords)\nBest Protected Wood Storage\nBest Firewood Logistics\nMost Creative / Artistic Stack\n\n  \nWinners will be announced live at the American Legion at 6:00 PM on the 22nd\, and posted here\, on NextDoor\, and on the Peaks Island Community FB page. \nImportant notes: \n  \n\nJudges will only visit sites that have registered using this form.\nParticipants do not need to be home for judging\, but we do request permission to come aboard and admire your wood.\nField visits will take place the morning of 11/22.\n\n  \n🪵🔥🪵🔥 \nPrizes and certificates will be awarded in person at the American Legion on Saturday or delivered to the home address provided on Sunday\, 11/23. \nThere is a suggested $5 registration fee\, which will be donated to the Peaks Island Tax and Energy Assistance program. Registration fee can be donated in cash or check made out to Peaks Island Tax and Energy Assistance.
URL:https://peaksisland.info/event/wood-stacking-competition/
LOCATION:American Legion-McVane Post\, Welch Street\, Peaks Island\, ME\, 04108\, United States
CATEGORIES:Community
ORGANIZER;CN="Amercian Legion Post":MAILTO:legionpost142@gmail.com
END:VEVENT
BEGIN:VEVENT
DTSTART;TZID=America/New_York:20251122T180000
DTEND;TZID=America/New_York:20251122T200000
DTSTAMP:20260419T092407
CREATED:20251117T152954Z
LAST-MODIFIED:20251117T152955Z
UID:10021442-1763834400-1763841600@peaksisland.info
SUMMARY:Frank Fortusky Concert
DESCRIPTION:
URL:https://peaksisland.info/event/frank-fortusky-concert/
LOCATION:The Barn\, 97 Brackett Ave\, Peaks Island\, ME\, 04108\, United States
CATEGORIES:Music/Dance/Theater
END:VEVENT
BEGIN:VEVENT
DTSTART;TZID=America/New_York:20251128T160000
DTEND;TZID=America/New_York:20251128T190000
DTSTAMP:20260419T092407
CREATED:20251121T181740Z
LAST-MODIFIED:20251121T181740Z
UID:10021456-1764345600-1764356400@peaksisland.info
SUMMARY:Portland Tree Lighting
DESCRIPTION:
URL:https://peaksisland.info/event/portland-tree-lighting/
LOCATION:Monument Square\, Portland
CATEGORIES:Food, Fests, Cooking, Bakes
END:VEVENT
BEGIN:VEVENT
DTSTART;TZID=America/New_York:20251128T180000
DTEND;TZID=America/New_York:20251128T190000
DTSTAMP:20260419T092407
CREATED:20251201T163715Z
LAST-MODIFIED:20251201T163715Z
UID:10021462-1764352800-1764356400@peaksisland.info
SUMMARY:Spanish Conversation Table at the Legion
DESCRIPTION:for more info call Candace at (207) 607-9395
URL:https://peaksisland.info/event/spanish-conversation-table-at-the-legion-2/
LOCATION:American Legion-McVane Post\, Welch Street\, Peaks Island\, ME\, 04108\, United States
CATEGORIES:Community
ORGANIZER;CN="Amercian Legion Post":MAILTO:legionpost142@gmail.com
END:VEVENT
BEGIN:VEVENT
DTSTART;TZID=America/New_York:20251130T150000
DTEND;TZID=America/New_York:20251130T180000
DTSTAMP:20260419T092407
CREATED:20251124T154614Z
LAST-MODIFIED:20251124T154614Z
UID:10021459-1764514800-1764525600@peaksisland.info
SUMMARY:Community Gathering for Wiley Davi
DESCRIPTION:Peaks Community Gathering for Wiley Davi  Reception to follow  \nThe Peaks Island community will gather on Sunday\, November 30th at 3:00pm at New Brackett Church in remembrance of Wiley Davi. This gathering will mark a transition from the shock and the search into a time of grief\, remembrance\, and collective care. Our time in the Sanctuary will include music\, stories\, and the chance to speak. Then we’ll continue in the hall with food and visiting. All are welcome. Please spread the word. If you are able\, please plan to bring food to contribute for the reception.
URL:https://peaksisland.info/event/community-gathering-for-wiley-davi/
LOCATION:New Brackett Church\, 3 Church Ave\, Peaks Island\, ME\, 04108\, United States
CATEGORIES:Community
END:VEVENT
BEGIN:VEVENT
DTSTART;TZID=America/New_York:20251202T170000
DTEND;TZID=America/New_York:20251202T210000
DTSTAMP:20260419T092407
CREATED:20251117T153403Z
LAST-MODIFIED:20251117T153403Z
UID:10021443-1764694800-1764709200@peaksisland.info
SUMMARY:PIES Fundraiser at Flatbreads
DESCRIPTION:
URL:https://peaksisland.info/event/pies-fundraiser-at-flatbreads/
LOCATION:Flatbreads Pizza\, Commercial St\, Portland\, ME\, 04101\, United States
CATEGORIES:Community,School
END:VEVENT
BEGIN:VEVENT
DTSTART;TZID=America/New_York:20251203T110000
DTEND;TZID=America/New_York:20251203T123000
DTSTAMP:20260419T092407
CREATED:20251201T164246Z
LAST-MODIFIED:20251201T164246Z
UID:10021463-1764759600-1764765000@peaksisland.info
SUMMARY:Senior Ladies Tea
DESCRIPTION:Tea Party !
URL:https://peaksisland.info/event/senior-ladies-tea/
LOCATION:St Christoper’s Community Room\, 15 Central Avenue\, Peaks Island\, 04108\, United States
CATEGORIES:Seniors
END:VEVENT
BEGIN:VEVENT
DTSTART;TZID=America/New_York:20251206T093000
DTEND;TZID=America/New_York:20251206T110000
DTSTAMP:20260419T092407
CREATED:20251201T164543Z
LAST-MODIFIED:20251201T164544Z
UID:10021464-1765013400-1765018800@peaksisland.info
SUMMARY:Bake Sale for the Legion
DESCRIPTION:
URL:https://peaksisland.info/event/bake-sale-for-the-legion/
LOCATION:American Legion-McVane Post\, Welch Street\, Peaks Island\, ME\, 04108\, United States
CATEGORIES:Food, Fests, Cooking, Bakes
ORGANIZER;CN="Amercian Legion Post":MAILTO:legionpost142@gmail.com
END:VEVENT
BEGIN:VEVENT
DTSTART;TZID=America/New_York:20251206T100000
DTEND;TZID=America/New_York:20251206T150000
DTSTAMP:20260419T092407
CREATED:20251117T153942Z
LAST-MODIFIED:20251117T153943Z
UID:10021444-1765015200-1765033200@peaksisland.info
SUMMARY:Holiday Craft Fair - Loretta Voyer
DESCRIPTION:
URL:https://peaksisland.info/event/holiday-craft-fair-loretta-voyer/
LOCATION:Lausier Family Gardens\, 77 Welch St\, Peaks\, ME\, 04108\, United States
CATEGORIES:Art, Art Lessons, Creative Writing,Community
ORGANIZER;CN="Loretta Voyer Fund":MAILTO:mconrad@backshore.net
END:VEVENT
BEGIN:VEVENT
DTSTART;TZID=America/New_York:20251206T160000
DTEND;TZID=America/New_York:20251206T180000
DTSTAMP:20260419T092407
CREATED:20251201T164856Z
LAST-MODIFIED:20251201T164856Z
UID:10021465-1765036800-1765044000@peaksisland.info
SUMMARY:Tree Lighting and Party
DESCRIPTION:Tree Lighting at 4\,  Holiday Party with Ukes at 4:20
URL:https://peaksisland.info/event/tree-lighting-and-party/
LOCATION:Unruly GirlsCafe\, 50 Welch Street\, Peaks Island\, ME\, 04108\, United States
CATEGORIES:Community,Food, Fests, Cooking, Bakes
END:VEVENT
BEGIN:VEVENT
DTSTART;TZID=America/New_York:20251206T173000
DTEND;TZID=America/New_York:20251206T190000
DTSTAMP:20260419T092408
CREATED:20251201T165109Z
LAST-MODIFIED:20251201T165110Z
UID:10021466-1765042200-1765047600@peaksisland.info
SUMMARY:Taco Dinner at the Legion
DESCRIPTION:
URL:https://peaksisland.info/event/taco-dinner-at-the-legion/
LOCATION:American Legion-McVane Post\, Welch Street\, Peaks Island\, ME\, 04108\, United States
CATEGORIES:Food, Fests, Cooking, Bakes
ORGANIZER;CN="Amercian Legion Post":MAILTO:legionpost142@gmail.com
END:VEVENT
BEGIN:VEVENT
DTSTART;TZID=America/New_York:20251207T154500
DTEND;TZID=America/New_York:20251207T164500
DTSTAMP:20260419T092408
CREATED:20251210T165703Z
LAST-MODIFIED:20251210T165703Z
UID:10021468-1765122300-1765125900@peaksisland.info
SUMMARY:Acoustic Music Circle
DESCRIPTION:Music Gathering \nSunday\, New Brackett Church\, 3:45pm. \nBring a song to play with others or a song to perform\, all levels welcome\, as are all instruments. Primarily acoustic\, though we do sometimes gently amplify bass.\nBring a song\, bring a friend\, BYOB. Spectators are welcome. Any questions\, contact O.B. O’Brien at 766-5555.
URL:https://peaksisland.info/event/acoustic-music-circle-2/
LOCATION:New Brackett Church\, 3 Church Ave\, Peaks Island\, ME\, 04108\, United States
CATEGORIES:Music/Dance/Theater
END:VEVENT
BEGIN:VEVENT
DTSTART;TZID=America/New_York:20251211T180000
DTEND;TZID=America/New_York:20251211T200000
DTSTAMP:20260419T092408
CREATED:20251210T170438Z
LAST-MODIFIED:20251210T170957Z
UID:10021469-1765476000-1765483200@peaksisland.info
SUMMARY:Drop IN Basket Ball
DESCRIPTION:
URL:https://peaksisland.info/event/drop-in-basket-ball/
LOCATION:Peaks Island Elementary School\, 4 Church Avenue\, Peaks Island\, ME\, 04108\, United States
CATEGORIES:Sports and Exercise
END:VEVENT
BEGIN:VEVENT
DTSTART;TZID=America/New_York:20251213T100000
DTEND;TZID=America/New_York:20251213T140000
DTSTAMP:20260419T092408
CREATED:20251118T145210Z
LAST-MODIFIED:20251118T145210Z
UID:10021452-1765620000-1765634400@peaksisland.info
SUMMARY:Jingle Bell Fair
DESCRIPTION:Jingle Bell Fair at Brackett Church is back! Come one\, come all for the Silent Auction\, Holiday Items\, Jewelry\, Baked Goods\, Knitted Hats & Scarves\, and more! \nSaturday 12/13 from 10 to 2\, and prior to the Peaks Island Music Association Holiday Concert on Sunday\, 12/14 from 2-3 and 6-7.
URL:https://peaksisland.info/event/jingle-bell-fair/2025-12-13/
LOCATION:ME
CATEGORIES:Food, Fests, Cooking, Bakes
END:VEVENT
BEGIN:VEVENT
DTSTART;TZID=America/New_York:20251213T163000
DTEND;TZID=America/New_York:20251213T183000
DTSTAMP:20260419T092408
CREATED:20251210T170809Z
LAST-MODIFIED:20251210T170810Z
UID:10021470-1765643400-1765650600@peaksisland.info
SUMMARY:Casco Bay Parade of Lights
DESCRIPTION:
URL:https://peaksisland.info/event/casco-bay-parade-of-lights/
LOCATION:ME
CATEGORIES:Food, Fests, Cooking, Bakes
END:VEVENT
BEGIN:VEVENT
DTSTART;TZID=America/New_York:20251213T190000
DTEND;TZID=America/New_York:20251213T223000
DTSTAMP:20260419T092408
CREATED:20251117T145831Z
LAST-MODIFIED:20251117T145832Z
UID:10021372-1765652400-1765665000@peaksisland.info
SUMMARY:Ladies' Ball Gown Party - Breast Cancer Research Fundraiser
DESCRIPTION:$15 donation\, cash bar \nVenmo: @danielle-madore.
URL:https://peaksisland.info/event/ladies-ball-gown-party-breast-cancer-research-fundraiser/
LOCATION:Inn on Peaks\, 33 Island Ave\, Peaks Island\, 04108\, United States
CATEGORIES:Community,Health,Music/Dance/Theater
END:VEVENT
BEGIN:VEVENT
DTSTART;TZID=America/New_York:20251214T150000
DTEND;TZID=America/New_York:20251214T163000
DTSTAMP:20260419T092408
CREATED:20251210T171244Z
LAST-MODIFIED:20251210T171244Z
UID:10021471-1765724400-1765729800@peaksisland.info
SUMMARY:Holiday Concert and Sing Along
DESCRIPTION:
URL:https://peaksisland.info/event/holiday-concert-and-sing-along/
LOCATION:New Brackett Church\, 3 Church Ave\, Peaks Island\, ME\, 04108\, United States
CATEGORIES:Music/Dance/Theater
END:VEVENT
BEGIN:VEVENT
DTSTART;TZID=America/New_York:20251214T190000
DTEND;TZID=America/New_York:20251214T203000
DTSTAMP:20260419T092408
CREATED:20251210T171353Z
LAST-MODIFIED:20251210T171353Z
UID:10021472-1765738800-1765744200@peaksisland.info
SUMMARY:Holiday Concert and Sing Along
DESCRIPTION:
URL:https://peaksisland.info/event/holiday-concert-and-sing-along-2/
LOCATION:New Brackett Church\, 3 Church Ave\, Peaks Island\, ME\, 04108\, United States
CATEGORIES:Music/Dance/Theater
END:VEVENT
BEGIN:VEVENT
DTSTART;TZID=America/New_York:20251216T151500
DTEND;TZID=America/New_York:20251216T164500
DTSTAMP:20260419T092408
CREATED:20251214T202636Z
LAST-MODIFIED:20251214T205028Z
UID:10021543-1765898100-1765903500@peaksisland.info
SUMMARY:Winter and Solstice Crafts
DESCRIPTION:
URL:https://peaksisland.info/event/winter-and-solstice-crafts/
LOCATION:Peaks Island Library\, Temporary home at Peaks Island Elementary School (rear entrance)\, Peaks Island\, 04108\, United States
CATEGORIES:Art, Art Lessons, Creative Writing
ORGANIZER;CN="Peaks Island Library":MAILTO:peaks@portlandpubliclibrary.org
END:VEVENT
BEGIN:VEVENT
DTSTART;TZID=America/New_York:20251218T180000
DTEND;TZID=America/New_York:20251218T200000
DTSTAMP:20260419T092408
CREATED:20251214T202819Z
LAST-MODIFIED:20251214T202959Z
UID:10021544-1766080800-1766088000@peaksisland.info
SUMMARY:BLue Christmas
DESCRIPTION:
URL:https://peaksisland.info/event/blue-christmas/
LOCATION:New Brackett Church\, 3 Church Ave\, Peaks Island\, ME\, 04108\, United States
CATEGORIES:Religion, Spiritual
END:VEVENT
BEGIN:VEVENT
DTSTART;TZID=America/New_York:20251219T151500
DTEND;TZID=America/New_York:20251219T170000
DTSTAMP:20260419T092408
CREATED:20251214T203216Z
LAST-MODIFIED:20251214T203216Z
UID:10021545-1766157300-1766163600@peaksisland.info
SUMMARY:Lion's Club Christmas Party
DESCRIPTION:
URL:https://peaksisland.info/event/lions-club-christmas-party/
LOCATION:Peaks Island Elementary School\, 4 Church Avenue\, Peaks Island\, ME\, 04108\, United States
CATEGORIES:Children
END:VEVENT
BEGIN:VEVENT
DTSTART;TZID=America/New_York:20251220T123000
DTEND;TZID=America/New_York:20251220T153000
DTSTAMP:20260419T092408
CREATED:20251214T203449Z
LAST-MODIFIED:20251214T203450Z
UID:10021546-1766233800-1766244600@peaksisland.info
SUMMARY:Date "Night" Afternoon
DESCRIPTION:
URL:https://peaksisland.info/event/date-night-afternoon/
LOCATION:New Brackett Church\, 3 Church Ave\, Peaks Island\, ME\, 04108\, United States
CATEGORIES:Community
END:VEVENT
BEGIN:VEVENT
DTSTART;TZID=America/New_York:20251221T163000
DTEND;TZID=America/New_York:20251221T180000
DTSTAMP:20260419T092408
CREATED:20251214T203805Z
LAST-MODIFIED:20251214T203805Z
UID:10021547-1766334600-1766340000@peaksisland.info
SUMMARY:Carolling and Wassailing
DESCRIPTION:
URL:https://peaksisland.info/event/carolling-and-wassailing/
LOCATION:St. Christopher’s Church\, 15 Central Avenue\, Peaks Island\, ME\, 04108\, United States
CATEGORIES:Music/Dance/Theater
END:VEVENT
BEGIN:VEVENT
DTSTART;TZID=America/New_York:20251230T100000
DTEND;TZID=America/New_York:20251230T123000
DTSTAMP:20260419T092408
CREATED:20251102T162945Z
LAST-MODIFIED:20251201T163242Z
UID:10018841-1767088800-1767097800@peaksisland.info
SUMMARY:Tech Tutoring
DESCRIPTION:Technology Tutoring @ Peaks \nTuesday\, December 30th\, 10 am – 12:30 pm  \nTechnology Tutoring sessions are for all levels of computer users and offer a chance to sit down with a staff member for 30 minutes of free computer assistance. The library has a laptop you may use\, or you can bring your own device. Whether you’d like help mastering the job search\, downloading ebooks and audiobooks\, or refreshing your basic computer skills\, our half-hour tutoring sessions might be the place to turn. You name the topic and we’ll work together. \nAdvanced registration is required. Stop in the library\, give us a call 766-5540\, or email us peaks@portlib.org to register or if you have any questions.
URL:https://peaksisland.info/event/tech-tutoring/
LOCATION:Peaks Island Community Center\, 129 Island SAvenue\, Peaks Island\, ME\, 04108
CATEGORIES:Technology
ORGANIZER;CN="Peaks Island Library":MAILTO:peaks@portlandpubliclibrary.org
END:VEVENT
BEGIN:VEVENT
DTSTART;TZID=America/New_York:20260107T104500
DTEND;TZID=America/New_York:20260107T120000
DTSTAMP:20260419T092408
CREATED:20260131T064736Z
LAST-MODIFIED:20260207T083331Z
UID:10022868-1767782700-1767787200@peaksisland.info
SUMMARY:Tai Chi at New Brackett
DESCRIPTION:For more info:  https://www.newbrackettchurch.org/upcoming-events/introduction-to-tai-chi-c5jw2-8prw3-mxjd9-naww4-yhn8r-esxat-44zt7-xlcbs-mywn9-zz3ak-mh459-y9wat-wcetr-4h2z6-aph8c-3zcka-k4ngc-yz8p2-yx4w2-ym6kk-627gn-ml3dy-fy8my-423tz-ld7l4-decch-br592 \n  \n\n\n\n\n\n\nAll are welcome. Come join us and learn to play T’ai Chi. \nINSTRUCTOR: David S Handwerker….40 years of study\, practice & teaching.\nTIME: 10:45am to Noon\nDATES:  Wednesdays January 7 through February 25 (8 weeks)\nCOST:  $160 for all eight classes\, payable to instructor at first class \nThe journey continues … eight brocades\, animal frolics\, Yang style long form and much more.\nPlease wear comfortable clothing and footwear.  We will be on our feet moving for over an hour. \nAny questions or concerns please contact David and we can work it out\, dshandwerker@gmail.com. \nPre-registration recommended even if not taking all 8 classes.
URL:https://peaksisland.info/event/tai-chi-at-new-brackett/2026-01-07/
LOCATION:New Brackett Church\, 3 Church Ave\, Peaks Island\, ME\, 04108\, United States
CATEGORIES:Sports and Exercise
END:VEVENT
BEGIN:VEVENT
DTSTART;TZID=America/New_York:20260107T151500
DTEND;TZID=America/New_York:20260107T170000
DTSTAMP:20260419T092408
CREATED:20251117T150906Z
LAST-MODIFIED:20251117T150906Z
UID:10021374-1767798900-1767805200@peaksisland.info
SUMMARY:Peaks Island Ski and Board Club
DESCRIPTION:YES! Peaks Island Ski and Board Club (PISC) is running its annual six (6) Wednesday afternoon skiing and boarding at Pleasant Mountain (formerly known as Shawnee Peak). Please join us for six Wednesdays at Pleasant Mountain starting JANUARY 7th.  \nWhat We Are: We are a volunteer club that is about getting our island kids and families\, our community\, recreating together outside\, rain or shine\, during the winter. We are NOT a commercial service; instead\, we operate from the good work of lots of volunteers. We want our kids exercising together OUTSIDE even on the bad days. We operate every Wednesday that Pleasant Mountain’s lifts are operating.  \nYou need to drive or arrange both for your skier ‘n boarders transport to Pleasant AND for a responsible adult while at Pleasant. If you are in need of high levels of personal service\, we recommend you contact your local ski area’s professionals. We will presume that you’ll willingly cooperate with our PI Ski & Board Club community guidelines and practices and with Pleasant Mountain’s group program. If you have questions\, please contact any one of us listed below.  \nWho and How Much: Any and all kids and their families that live on or associated with our island communities are welcome to join us up at Pleasant Mountain. Our program is for six (6) Wednesday afternoons. Pleasant Mountain would like payment via their website\, and we will provide the code once you submit your waiver form.  \nThose costs this year: $180 per each child or parent using the lifts or slopes for 6 Wednesday lift tickets\, OR $360 for 6 lift tickets and 6 90 minute lessons\, OR $336 for 6 lift tickets and 6 equipment rentals\, OR $516 for 6 lift tickets\, 6 lessons\, and 6 rentals. This year\, they are also offering a “Refresher Lesson” on your first visit for $30\, so you don’t have to commit to six lessons.  \nSki lessons run for six (6) weeks\, each lesson is 90 minutes long\, starting at 3:15 pm\, ending around 4:45 pm. Instructors are kid-trained and friendly.  \nPaperwork Required: All adult and child skiing/boarding participants must sign and return TO ANDY JACKSON (65 Sterling St\, Peaks Island 04108) a FULLY COMPLETED – by both a parent/guardian\, and by child “PISC Waiver and Release” AND complete the registration form online at Pleasant Mountain’s website. [We will provide the link upon receipt of the waiver form.] **The paperwork is due by Dec. 1\, payment online by Dec. 18.** [We will provide the payment link upon receipt of the waiver form.]  \nHow their Equipment Rental works: For those taking advantage of Pleasant Mountain’s excellent and easy Rental program\, once the paperwork is filled out and gear assigned on Day 1\, that same gear will be pulled out\, set up by the Pleasant Mountain Rental Shop with your child’s name on it\, adjusted\, and waiting for your arrival each Wednesday. It’s easy for the kids to pick up their own rental at Pleasant Mountain after their first day\, and rentals are returned to the rental office at the end of each ski day. There’ll be an Online Rental Registration weblink.  \nEquipment: If your beginner or novice child is without gear\, ask around as our Peaks community has a good stash of school-sized ski and board equipment. Play It Again is a good source\, and many local ski shops offer a season long rental for our kids. You can also try: https://fitmaine.com/where-to-buy-affordable-used-winter-gear/ and: https://winterkids.org/blog/maine-ski-swaps/ Wednesday ETD and ETA: Most families on island plan to take 12:45 ferry leaving Peaks each Wednesday. We cannot offer a formal carpool program\, but encourage people to make their own arrangements if they’d like to share driving with other participants in the program. Pleasant Mountain is open until nearly 9:00 pm\, but many of us try to catch the 7:15 pm CBL return to Peaks by leaving Pleasant Mountain around 5:30 pm. It’s important to ensure our kids can keep their eyes open in school on Thursday\, but older kids often take a later boat home. Email Andy andy@dovetailme.com or Devon kraftdevon@gmail.com for ski club waiver and any questions you may have.
URL:https://peaksisland.info/event/peaks-island-ski-and-board-club/2026-01-07/
LOCATION:ME
CATEGORIES:Children,Sports and Exercise
END:VEVENT
END:VCALENDAR