BEGIN:VCALENDAR
VERSION:2.0
PRODID:-//Peaks Island - ECPv6.15.17//NONSGML v1.0//EN
CALSCALE:GREGORIAN
METHOD:PUBLISH
X-WR-CALNAME:Peaks Island
X-ORIGINAL-URL:https://peaksisland.info
X-WR-CALDESC:Events for Peaks Island
REFRESH-INTERVAL;VALUE=DURATION:PT1H
X-Robots-Tag:noindex
X-PUBLISHED-TTL:PT1H
BEGIN:VTIMEZONE
TZID:America/New_York
BEGIN:DAYLIGHT
TZOFFSETFROM:-0500
TZOFFSETTO:-0400
TZNAME:EDT
DTSTART:20240310T070000
END:DAYLIGHT
BEGIN:STANDARD
TZOFFSETFROM:-0400
TZOFFSETTO:-0500
TZNAME:EST
DTSTART:20241103T060000
END:STANDARD
BEGIN:DAYLIGHT
TZOFFSETFROM:-0500
TZOFFSETTO:-0400
TZNAME:EDT
DTSTART:20250309T070000
END:DAYLIGHT
BEGIN:STANDARD
TZOFFSETFROM:-0400
TZOFFSETTO:-0500
TZNAME:EST
DTSTART:20251102T060000
END:STANDARD
BEGIN:DAYLIGHT
TZOFFSETFROM:-0500
TZOFFSETTO:-0400
TZNAME:EDT
DTSTART:20260308T070000
END:DAYLIGHT
BEGIN:STANDARD
TZOFFSETFROM:-0400
TZOFFSETTO:-0500
TZNAME:EST
DTSTART:20261101T060000
END:STANDARD
BEGIN:DAYLIGHT
TZOFFSETFROM:-0500
TZOFFSETTO:-0400
TZNAME:EDT
DTSTART:20270314T070000
END:DAYLIGHT
BEGIN:STANDARD
TZOFFSETFROM:-0400
TZOFFSETTO:-0500
TZNAME:EST
DTSTART:20271107T060000
END:STANDARD
END:VTIMEZONE
BEGIN:VEVENT
DTSTART;TZID=America/New_York:20251228T083000
DTEND;TZID=America/New_York:20251228T100000
DTSTAMP:20260423T181847
CREATED:20250624T141712Z
LAST-MODIFIED:20250630T111218Z
UID:10015851-1766910600-1766916000@peaksisland.info
SUMMARY:Mass at St. Christopher's Church
DESCRIPTION:
URL:https://peaksisland.info/event/mass-at-st-christophers-church/2025-12-28/
LOCATION:St. Christopher’s Church\, 15 Central Avenue\, Peaks Island\, ME\, 04108\, United States
CATEGORIES:Religion, Spiritual
END:VEVENT
BEGIN:VEVENT
DTSTART;TZID=America/New_York:20251228T100000
DTEND;TZID=America/New_York:20251228T100000
DTSTAMP:20260423T181847
CREATED:20250624T141840Z
LAST-MODIFIED:20250630T104107Z
UID:10011383-1766916000-1766916000@peaksisland.info
SUMMARY:Worship at New Brackett Church
DESCRIPTION:
URL:https://peaksisland.info/event/worship-at-new-brackett-church/2025-12-28/
LOCATION:New Brackett Church\, 3 Church Ave\, Peaks Island\, ME\, 04108\, United States
CATEGORIES:Religion, Spiritual
END:VEVENT
BEGIN:VEVENT
DTSTART;TZID=America/New_York:20251229T100000
DTEND;TZID=America/New_York:20251229T110000
DTSTAMP:20260423T181847
CREATED:20251117T143654Z
LAST-MODIFIED:20251117T143655Z
UID:10010897-1767002400-1767006000@peaksisland.info
SUMMARY:Defend Democracy Messaging Project
DESCRIPTION:Speak Up for Democracy:\nJoin your neighbors to write your Representatives\n10 am @ Community Center
URL:https://peaksisland.info/event/defend-democracy-messaging-project-2/2025-12-29/
LOCATION:Peaks Island Community Center\, 129 Island SAvenue\, Peaks Island\, ME\, 04108
CATEGORIES:Community
ORGANIZER;CN="Ann Coughlan":MAILTO:annefcoughlin@gmail.com
END:VEVENT
BEGIN:VEVENT
DTSTART;TZID=America/New_York:20251229T130000
DTEND;TZID=America/New_York:20251229T140000
DTSTAMP:20260423T181847
CREATED:20241204T150803Z
LAST-MODIFIED:20241204T150804Z
UID:10009868-1767013200-1767016800@peaksisland.info
SUMMARY:Al-anon Meeting @ New Brackett
DESCRIPTION:all welcome
URL:https://peaksisland.info/event/al-anon-meeting-new-brackett-church-2/2025-12-29/
LOCATION:New Brackett Church\, 3 Church Ave\, Peaks Island\, ME\, 04108\, United States
CATEGORIES:Health
END:VEVENT
BEGIN:VEVENT
DTSTART;TZID=America/New_York:20251229T153000
DTEND;TZID=America/New_York:20251229T170000
DTSTAMP:20260423T181847
CREATED:20250624T204814Z
LAST-MODIFIED:20250815T105319Z
UID:10011906-1767022200-1767027600@peaksisland.info
SUMMARY:Food Pantry at New Brackett Church
DESCRIPTION:Food Pantry’s mission is to provide food assistance to island neighbors.\nIf you have questions or would like to make a donation\, contact Libra at 207-838-0337. \n 
URL:https://peaksisland.info/event/food-pantry-at-new-brackett-church/2025-12-29/
LOCATION:New Brackett Church\, 3 Church Ave\, Peaks Island\, ME\, 04108\, United States
CATEGORIES:Community,Food, Fests, Cooking, Bakes,Seniors
END:VEVENT
BEGIN:VEVENT
DTSTART;TZID=America/New_York:20251230T100000
DTEND;TZID=America/New_York:20251230T123000
DTSTAMP:20260423T181847
CREATED:20251102T162945Z
LAST-MODIFIED:20251201T163242Z
UID:10018841-1767088800-1767097800@peaksisland.info
SUMMARY:Tech Tutoring
DESCRIPTION:Technology Tutoring @ Peaks \nTuesday\, December 30th\, 10 am – 12:30 pm  \nTechnology Tutoring sessions are for all levels of computer users and offer a chance to sit down with a staff member for 30 minutes of free computer assistance. The library has a laptop you may use\, or you can bring your own device. Whether you’d like help mastering the job search\, downloading ebooks and audiobooks\, or refreshing your basic computer skills\, our half-hour tutoring sessions might be the place to turn. You name the topic and we’ll work together. \nAdvanced registration is required. Stop in the library\, give us a call 766-5540\, or email us peaks@portlib.org to register or if you have any questions.
URL:https://peaksisland.info/event/tech-tutoring/
LOCATION:Peaks Island Community Center\, 129 Island SAvenue\, Peaks Island\, ME\, 04108
CATEGORIES:Technology
ORGANIZER;CN="Peaks Island Library":MAILTO:peaks@portlandpubliclibrary.org
END:VEVENT
BEGIN:VEVENT
DTSTART;TZID=America/New_York:20251230T183000
DTEND;TZID=America/New_York:20251230T200000
DTSTAMP:20260423T181847
CREATED:20251003T153801Z
LAST-MODIFIED:20251003T153802Z
UID:10017339-1767119400-1767124800@peaksisland.info
SUMMARY:Cook Club at New Brackett Church
DESCRIPTION:Join in the fun of weekly Cook Club\, led by Pi Crosby and gathering at New Brackett Church. The main ingredient changes weekly. \nPlease contact Pi Crosby at pi.napple5407@gmail.com for more information!
URL:https://peaksisland.info/event/cook-club-at-new-brackett-church-2-2/2025-12-30/
LOCATION:New Brackett Church\, 3 Church Ave\, Peaks Island\, ME\, 04108\, United States
CATEGORIES:Food, Fests, Cooking, Bakes
END:VEVENT
BEGIN:VEVENT
DTSTART;TZID=America/New_York:20251231T180000
DTEND;TZID=America/New_York:20251231T200000
DTSTAMP:20260423T181847
CREATED:20250921T152516Z
LAST-MODIFIED:20251117T151551Z
UID:10017895-1767204000-1767211200@peaksisland.info
SUMMARY:Trivia Night at the Legion
DESCRIPTION:
URL:https://peaksisland.info/event/trivia-night-at-the-legion/2025-12-31/
LOCATION:American Legion-McVane Post\, Welch Street\, Peaks Island\, ME\, 04108\, United States
CATEGORIES:Community
ORGANIZER;CN="Amercian Legion Post":MAILTO:legionpost142@gmail.com
END:VEVENT
BEGIN:VEVENT
DTSTART;TZID=America/New_York:20251231T181500
DTEND;TZID=America/New_York:20251231T191500
DTSTAMP:20260423T181847
CREATED:20250812T155826Z
LAST-MODIFIED:20250812T155826Z
UID:10016118-1767204900-1767208500@peaksisland.info
SUMMARY:AA - Alcoholics Anonymous - Don't Miss the Boat
DESCRIPTION:AA meeting every Weds
URL:https://peaksisland.info/event/aa-alcoholics-anonymous-dont-miss-the-boat-2/2025-12-31/
LOCATION:New Brackett Church\, 3 Church Ave\, Peaks Island\, ME\, 04108\, United States
CATEGORIES:Support Group
END:VEVENT
BEGIN:VEVENT
DTSTART;TZID=America/New_York:20260102T104500
DTEND;TZID=America/New_York:20260102T111500
DTSTAMP:20260423T181847
CREATED:20250626T113230Z
LAST-MODIFIED:20250815T110440Z
UID:10014603-1767350700-1767352500@peaksisland.info
SUMMARY:Pre School Story Time
DESCRIPTION:Preschool Storytime features more challenging stories\, songs\, movement\, and activities to help preschool-age children continue to develop their early literacy skills! Parents and caregivers can play and sing along while learning about new books\, songs\, fingerplays and stories from our librarians. \n\n\n\n\nDisclaimer(s)\n\n\n\n\nAll children are welcome to attend the PPL Storytime that best fits their schedule. Adults must be accompanied by a child. Caregivers should remain with their child during Storytime. We encourage caregivers to fully participate and enjoy the fun with their children!
URL:https://peaksisland.info/event/pre-school-story-time/2026-01-02/
LOCATION:Peaks Island Library\, Temporary home at Peaks Island Elementary School (rear entrance)\, Peaks Island\, 04108\, United States
CATEGORIES:Children
ORGANIZER;CN="Peaks Island Library":MAILTO:peaks@portlandpubliclibrary.org
END:VEVENT
BEGIN:VEVENT
DTSTART;TZID=America/New_York:20260103T090000
DTEND;TZID=America/New_York:20260103T094500
DTSTAMP:20260423T181847
CREATED:20251102T163234Z
LAST-MODIFIED:20251102T163234Z
UID:10018851-1767430800-1767433500@peaksisland.info
SUMMARY:Adult Writing
DESCRIPTION:Adult Writing Group @ Peaks \nSaturdays\, 9 am – 9:45 am  \nA writing group for adults every Saturday morning at the Peaks Island Branch Library.  This is a group for anyone who likes to write (or would like to start). All skill levels\, from beginner to experienced\, are welcome. Take inspiration from the weekly writing prompt or come with your own ideas and projects. \nSaturday mornings at 9 am – 9:45 am.
URL:https://peaksisland.info/event/adult-writing/2026-01-03/
LOCATION:Peaks Island Community Center\, 129 Island SAvenue\, Peaks Island\, ME\, 04108
CATEGORIES:Art, Art Lessons, Creative Writing
ORGANIZER;CN="Peaks Island Library":MAILTO:peaks@portlandpubliclibrary.org
END:VEVENT
BEGIN:VEVENT
DTSTART;TZID=America/New_York:20260103T170000
DTEND;TZID=America/New_York:20260103T180000
DTSTAMP:20260423T181847
CREATED:20250904T155039Z
LAST-MODIFIED:20250904T155039Z
UID:10017068-1767459600-1767463200@peaksisland.info
SUMMARY:Eucharist Service at New Brackett
DESCRIPTION:Eucharist service is now every Saturday at 5:00 pm at New Brackett
URL:https://peaksisland.info/event/eucharist-service-at-new-brackett/2026-01-03/
LOCATION:New Brackett Church\, 3 Church Ave\, Peaks Island\, ME\, 04108\, United States
CATEGORIES:Religion, Spiritual
END:VEVENT
END:VCALENDAR