BEGIN:VCALENDAR
VERSION:2.0
PRODID:-//Peaks Island - ECPv6.15.17//NONSGML v1.0//EN
CALSCALE:GREGORIAN
METHOD:PUBLISH
X-ORIGINAL-URL:https://peaksisland.info
X-WR-CALDESC:Events for Peaks Island
REFRESH-INTERVAL;VALUE=DURATION:PT1H
X-Robots-Tag:noindex
X-PUBLISHED-TTL:PT1H
BEGIN:VTIMEZONE
TZID:America/New_York
BEGIN:DAYLIGHT
TZOFFSETFROM:-0500
TZOFFSETTO:-0400
TZNAME:EDT
DTSTART:20260308T070000
END:DAYLIGHT
BEGIN:STANDARD
TZOFFSETFROM:-0400
TZOFFSETTO:-0500
TZNAME:EST
DTSTART:20261101T060000
END:STANDARD
BEGIN:DAYLIGHT
TZOFFSETFROM:-0500
TZOFFSETTO:-0400
TZNAME:EDT
DTSTART:20270314T070000
END:DAYLIGHT
BEGIN:STANDARD
TZOFFSETFROM:-0400
TZOFFSETTO:-0500
TZNAME:EST
DTSTART:20271107T060000
END:STANDARD
BEGIN:DAYLIGHT
TZOFFSETFROM:-0500
TZOFFSETTO:-0400
TZNAME:EDT
DTSTART:20280312T070000
END:DAYLIGHT
BEGIN:STANDARD
TZOFFSETFROM:-0400
TZOFFSETTO:-0500
TZNAME:EST
DTSTART:20281105T060000
END:STANDARD
END:VTIMEZONE
BEGIN:VEVENT
DTSTART;TZID=America/New_York:20270411T083000
DTEND;TZID=America/New_York:20270411T100000
DTSTAMP:20260423T162140
CREATED:20250624T141712Z
LAST-MODIFIED:20250630T111218Z
UID:10015918-1807432200-1807437600@peaksisland.info
SUMMARY:Mass at St. Christopher's Church
DESCRIPTION:
URL:https://peaksisland.info/event/mass-at-st-christophers-church/2027-04-11/
LOCATION:St. Christopher’s Church\, 15 Central Avenue\, Peaks Island\, ME\, 04108\, United States
CATEGORIES:Religion, Spiritual
END:VEVENT
BEGIN:VEVENT
DTSTART;TZID=America/New_York:20270411T100000
DTEND;TZID=America/New_York:20270411T100000
DTSTAMP:20260423T162140
CREATED:20250624T141840Z
LAST-MODIFIED:20250630T104107Z
UID:10011450-1807437600-1807437600@peaksisland.info
SUMMARY:Worship at New Brackett Church
DESCRIPTION:
URL:https://peaksisland.info/event/worship-at-new-brackett-church/2027-04-11/
LOCATION:New Brackett Church\, 3 Church Ave\, Peaks Island\, ME\, 04108\, United States
CATEGORIES:Religion, Spiritual
END:VEVENT
BEGIN:VEVENT
DTSTART;TZID=America/New_York:20270411T154500
DTEND;TZID=America/New_York:20270411T164500
DTSTAMP:20260423T162140
CREATED:20260207T080751Z
LAST-MODIFIED:20260211T104757Z
UID:10023229-1807458300-1807461900@peaksisland.info
SUMMARY:Acoustic Music Circle
DESCRIPTION:Music Gathering \nSunday\, New Brackett Church\, 3:45pm. \nBring a song to play with others or a song to perform\, all levels welcome\, as are all instruments. Primarily acoustic\, though we do sometimes gently amplify bass.\nBring a song\, bring a friend\, BYOB. Spectators are welcome. Any questions\, contact O.B. O’Brien at 766-5555.
URL:https://peaksisland.info/event/acoustic-music-circle-3/2027-04-11/
LOCATION:New Brackett Church\, 3 Church Ave\, Peaks Island\, ME\, 04108\, United States
CATEGORIES:Music/Dance/Theater
END:VEVENT
BEGIN:VEVENT
DTSTART;TZID=America/New_York:20270412T100000
DTEND;TZID=America/New_York:20270412T110000
DTSTAMP:20260423T162140
CREATED:20251117T143654Z
LAST-MODIFIED:20251117T143655Z
UID:10010964-1807524000-1807527600@peaksisland.info
SUMMARY:Defend Democracy Messaging Project
DESCRIPTION:Speak Up for Democracy:\nJoin your neighbors to write your Representatives\n10 am @ Community Center
URL:https://peaksisland.info/event/defend-democracy-messaging-project-2/2027-04-12/
LOCATION:Peaks Island Community Center\, 129 Island SAvenue\, Peaks Island\, ME\, 04108
CATEGORIES:Community
ORGANIZER;CN="Ann Coughlan":MAILTO:annefcoughlin@gmail.com
END:VEVENT
BEGIN:VEVENT
DTSTART;TZID=America/New_York:20270412T130000
DTEND;TZID=America/New_York:20270412T140000
DTSTAMP:20260423T162140
CREATED:20241204T150803Z
LAST-MODIFIED:20241204T150804Z
UID:10009935-1807534800-1807538400@peaksisland.info
SUMMARY:Al-anon Meeting @ New Brackett
DESCRIPTION:all welcome
URL:https://peaksisland.info/event/al-anon-meeting-new-brackett-church-2/2027-04-12/
LOCATION:New Brackett Church\, 3 Church Ave\, Peaks Island\, ME\, 04108\, United States
CATEGORIES:Health
END:VEVENT
BEGIN:VEVENT
DTSTART;TZID=America/New_York:20270412T153000
DTEND;TZID=America/New_York:20270412T170000
DTSTAMP:20260423T162140
CREATED:20250624T204814Z
LAST-MODIFIED:20250815T105319Z
UID:10016648-1807543800-1807549200@peaksisland.info
SUMMARY:Food Pantry at New Brackett Church
DESCRIPTION:Food Pantry’s mission is to provide food assistance to island neighbors.\nIf you have questions or would like to make a donation\, contact Libra at 207-838-0337. \n 
URL:https://peaksisland.info/event/food-pantry-at-new-brackett-church/2027-04-12/
LOCATION:New Brackett Church\, 3 Church Ave\, Peaks Island\, ME\, 04108\, United States
CATEGORIES:Community,Food, Fests, Cooking, Bakes,Seniors
END:VEVENT
BEGIN:VEVENT
DTSTART;TZID=America/New_York:20270413T183000
DTEND;TZID=America/New_York:20270413T200000
DTSTAMP:20260423T162140
CREATED:20251003T153801Z
LAST-MODIFIED:20251003T153802Z
UID:10017406-1807641000-1807646400@peaksisland.info
SUMMARY:Cook Club at New Brackett Church
DESCRIPTION:Join in the fun of weekly Cook Club\, led by Pi Crosby and gathering at New Brackett Church. The main ingredient changes weekly. \nPlease contact Pi Crosby at pi.napple5407@gmail.com for more information!
URL:https://peaksisland.info/event/cook-club-at-new-brackett-church-2-2/2027-04-13/
LOCATION:New Brackett Church\, 3 Church Ave\, Peaks Island\, ME\, 04108\, United States
CATEGORIES:Food, Fests, Cooking, Bakes
END:VEVENT
BEGIN:VEVENT
DTSTART;TZID=America/New_York:20270413T190000
DTEND;TZID=America/New_York:20270413T200000
DTSTAMP:20260423T162140
CREATED:20251102T164944Z
LAST-MODIFIED:20251102T164944Z
UID:10019185-1807642800-1807646400@peaksisland.info
SUMMARY:Book Group
DESCRIPTION:Book Group @ Peaks Second Tuesday of the Month  \nThe Tuesday Adult Book Discussion Group \nTime: 7:00 – 8:00 pm \nJoin us on Tuesday\, November 11 to discuss The Women by Kristin Hannah. \n\nLocation: Peaks Island Community Room \nThis program is supported by Friends of the Peaks Island Library\nAll are welcome to join the book group. Titles are chosen in advance by the members who rotate leading the discussion. Meetings are fun and mind-broadening. Contact the Peaks Island Branch Library for help in procuring these titles. \nDec. 9 An Unfinished Love Story by Doris Kearns Goodwin \nJan. 13 White Heron by Sarah Oren Jewett \nFeb. 10 North Woods by Daniel Mason \nMar. 10 Foster by Claire Keegan \nApr. 14 The One-in-a-Million Boy by Monica Wood \nMay 12 Running with Sherman by Christopher McDougall \nJun. 16 Berry Pickers by Amanda Peters
URL:https://peaksisland.info/event/book-group/2027-04-13/
CATEGORIES:Book Club
END:VEVENT
BEGIN:VEVENT
DTSTART;TZID=America/New_York:20270414T180000
DTEND;TZID=America/New_York:20270414T200000
DTSTAMP:20260423T162140
CREATED:20250921T152516Z
LAST-MODIFIED:20251117T151551Z
UID:10017962-1807725600-1807732800@peaksisland.info
SUMMARY:Trivia Night at the Legion
DESCRIPTION:
URL:https://peaksisland.info/event/trivia-night-at-the-legion/2027-04-14/
LOCATION:American Legion-McVane Post\, Welch Street\, Peaks Island\, ME\, 04108\, United States
CATEGORIES:Community
ORGANIZER;CN="Amercian Legion Post":MAILTO:legionpost142@gmail.com
END:VEVENT
BEGIN:VEVENT
DTSTART;TZID=America/New_York:20270414T181500
DTEND;TZID=America/New_York:20270414T191500
DTSTAMP:20260423T162140
CREATED:20250812T155826Z
LAST-MODIFIED:20250812T155826Z
UID:10016185-1807726500-1807730100@peaksisland.info
SUMMARY:AA - Alcoholics Anonymous - Don't Miss the Boat
DESCRIPTION:AA meeting every Weds
URL:https://peaksisland.info/event/aa-alcoholics-anonymous-dont-miss-the-boat-2/2027-04-14/
LOCATION:New Brackett Church\, 3 Church Ave\, Peaks Island\, ME\, 04108\, United States
CATEGORIES:Support Group
END:VEVENT
BEGIN:VEVENT
DTSTART;TZID=America/New_York:20270415T100000
DTEND;TZID=America/New_York:20270415T110000
DTSTAMP:20260423T162140
CREATED:20250715T063327Z
LAST-MODIFIED:20251214T195551Z
UID:10016454-1807783200-1807786800@peaksisland.info
SUMMARY:Bible Study St Christophers Church
DESCRIPTION:
URL:https://peaksisland.info/event/bible-study-st-christophers-church/2027-04-15/
LOCATION:St. Christopher’s Church\, 15 Central Avenue\, Peaks Island\, ME\, 04108\, United States
CATEGORIES:Religion, Spiritual
END:VEVENT
BEGIN:VEVENT
DTSTART;TZID=America/New_York:20270415T130000
DTEND;TZID=America/New_York:20270415T140000
DTSTAMP:20260423T162140
CREATED:20250624T210011Z
LAST-MODIFIED:20251214T165311Z
UID:10013018-1807794000-1807797600@peaksisland.info
SUMMARY:Adult Tap Classes
DESCRIPTION:An ongoing adult tap class\, open to all levels of experience\, including beginners!\nTap shoes not required. Focus is on basic steps and rhythmic variations\, leading to more complicated combinations as appropriate to class level. \nFor more information\, contact Caitlin Osborne at caitlinosbornedance@gmail.com or 814-574-3740\, or Timmi Sellers at 831-917-3092. \nTo sign up and sign the liability disclaimer in advance\, please click here.
URL:https://peaksisland.info/event/adult-tap-classes/2027-04-15/
LOCATION:New Brackett Church\, 3 Church Ave\, Peaks Island\, ME\, 04108\, United States
CATEGORIES:Music/Dance/Theater
END:VEVENT
BEGIN:VEVENT
DTSTART;TZID=America/New_York:20270416T104500
DTEND;TZID=America/New_York:20270416T111500
DTSTAMP:20260423T162140
CREATED:20250626T113230Z
LAST-MODIFIED:20250815T110440Z
UID:10014670-1807872300-1807874100@peaksisland.info
SUMMARY:Pre School Story Time
DESCRIPTION:Preschool Storytime features more challenging stories\, songs\, movement\, and activities to help preschool-age children continue to develop their early literacy skills! Parents and caregivers can play and sing along while learning about new books\, songs\, fingerplays and stories from our librarians. \n\n\n\n\nDisclaimer(s)\n\n\n\n\nAll children are welcome to attend the PPL Storytime that best fits their schedule. Adults must be accompanied by a child. Caregivers should remain with their child during Storytime. We encourage caregivers to fully participate and enjoy the fun with their children!
URL:https://peaksisland.info/event/pre-school-story-time/2027-04-16/
LOCATION:Peaks Island Library\, Temporary home at Peaks Island Elementary School (rear entrance)\, Peaks Island\, 04108\, United States
CATEGORIES:Children
ORGANIZER;CN="Peaks Island Library":MAILTO:peaks@portlandpubliclibrary.org
END:VEVENT
BEGIN:VEVENT
DTSTART;TZID=America/New_York:20270416T151500
DTEND;TZID=America/New_York:20270416T170000
DTSTAMP:20260423T162140
CREATED:20260109T194339Z
LAST-MODIFIED:20260109T194339Z
UID:10022299-1807888500-1807894800@peaksisland.info
SUMMARY:Creative Writing Grades 3-5
DESCRIPTION:Creative Writing for Kids @ Peaks (Grades 3–5)Fridays afternoons\, 3:15 pm  \nCreative Writing for Kids (Grades 3–5) Friday afternoons at 3:15 pm. \nBring your imagination – journals\, pencils and snacks will be provided. \nQuestions contact the library 766-5540 or email us peaks@portlib.org
URL:https://peaksisland.info/event/creative-writing-grades-3-5/2027-04-16/
LOCATION:Peaks Island Library\, Temporary home at Peaks Island Elementary School (rear entrance)\, Peaks Island\, 04108\, United States
CATEGORIES:Art, Art Lessons, Creative Writing,Children
ORGANIZER;CN="Peaks Island Library":MAILTO:peaks@portlandpubliclibrary.org
END:VEVENT
BEGIN:VEVENT
DTSTART;TZID=America/New_York:20270417T090000
DTEND;TZID=America/New_York:20270417T094500
DTSTAMP:20260423T162140
CREATED:20251102T163234Z
LAST-MODIFIED:20251102T163234Z
UID:10018918-1807952400-1807955100@peaksisland.info
SUMMARY:Adult Writing
DESCRIPTION:Adult Writing Group @ Peaks \nSaturdays\, 9 am – 9:45 am  \nA writing group for adults every Saturday morning at the Peaks Island Branch Library.  This is a group for anyone who likes to write (or would like to start). All skill levels\, from beginner to experienced\, are welcome. Take inspiration from the weekly writing prompt or come with your own ideas and projects. \nSaturday mornings at 9 am – 9:45 am.
URL:https://peaksisland.info/event/adult-writing/2027-04-17/
LOCATION:Peaks Island Community Center\, 129 Island SAvenue\, Peaks Island\, ME\, 04108
CATEGORIES:Art, Art Lessons, Creative Writing
ORGANIZER;CN="Peaks Island Library":MAILTO:peaks@portlandpubliclibrary.org
END:VEVENT
BEGIN:VEVENT
DTSTART;TZID=America/New_York:20270417T170000
DTEND;TZID=America/New_York:20270417T180000
DTSTAMP:20260423T162140
CREATED:20250904T155039Z
LAST-MODIFIED:20250904T155039Z
UID:10017135-1807981200-1807984800@peaksisland.info
SUMMARY:Eucharist Service at New Brackett
DESCRIPTION:Eucharist service is now every Saturday at 5:00 pm at New Brackett
URL:https://peaksisland.info/event/eucharist-service-at-new-brackett/2027-04-17/
LOCATION:New Brackett Church\, 3 Church Ave\, Peaks Island\, ME\, 04108\, United States
CATEGORIES:Religion, Spiritual
END:VEVENT
END:VCALENDAR